Workbook

Sheet صورت وضعیت
A1: صندوق سرمایه‌گذاری امین انصار
A2: صورت وضعیت پرتفوی
A3: برای ماه منتهی به 1405/06/31

Sheet سهام
A1: صندوق سرمایه‌گذاری امین انصار
A2: صورت وضعیت پرتفوی
A3: برای ماه منتهی به 1405/06/31
A4: -1 | B4: سرمایه گذاری ها
A5: -1-1 | C5: سرمایه گذاری در سهام و حق تقدم سهام
F6: 1405/05/31 | L6: تغییرات طی دوره | T6: 1405/06/31
L7: خرید طی دوره | P7: فروش طی دوره
A8: نام شرکت | E8: تعداد | H8: بهای تمام شده | J8: خالص ارزش فروش | L8: تعداد | N8: بهای تمام شده | P8: تعداد | R8: مبلغ فروش | T8: تعداد | V8: قیمت بازار هر سهم | X8: بهای تمام شده | Z8: خالص ارزش فروش | AB8: درصد به کل دارایی ها
A9: احیا استیل فولاد بافت | E9: 10666000 | H9: 35825573026 | J9: 4.4133411e+10 | L9: 0 | N9: 0 | P9: 0 | R9: 0 | T9: 10666000 | V9: 4700 | X9: 35825573026 | Z9: 49742693554 | AB9: 0.11
A10: بانک ملت | E10: 80055229 | H10: 79254694032 | J10: 1.077952e+11 | L10: 38694975 | N10: 59866670500 | P10: 0 | R10: 0 | T10: 118750204 | V10: 1444 | X10: 139121364532 | Z10: 1.7014979e+11 | AB10: 0.37
A11: بهنوش‌ ایران‌ | E11: 166631 | H11: 16246775821 | J11: 1.2812425e+10 | L11: 0 | N11: 0 | P11: 0 | R11: 0 | T11: 166631 | V11: 83090 | X11: 16246775821 | Z11: 1.3738345e+10 | AB11: 0.03
A12: بیمه البرز | E12: 73604381 | H12: 112200919555 | J12: 1.5205974e+11 | L12: 0 | N12: 0 | P12: -73604381 | R12: 165100226013 | T12: 0 | V12: 0 | X12: 0 | Z12: 0 | AB12: 0
A13: پالایش نفت اصفهان | E13: 5119599 | H13: 30177267281 | J13: 5.8318681e+10 | L13: 3396358 | N13: 48845150930 | P13: 0 | R13: 0 | T13: 8515957 | V13: 12400 | X13: 79022418211 | Z13: 1.047816e+11 | AB13: 0.23
A14: پالایش نفت بندرعباس | E14: 8000000 | H14: 70014719255 | J14: 96686788800 | L14: 1976789 | N14: 29968674105 | P14: 0 | R14: 0 | T14: 9976789 | V14: 14720 | X14: 99983393360 | Z14: 1.4572312e+11 | AB14: 0.32
A15: پالایش نفت تهران | E15: 19109034 | H15: 69743070543 | J15: 1.0390804e+11 | L15: 0 | N15: 0 | P15: 0 | R15: 0 | T15: 19109034 | V15: 6380 | X15: 69743070543 | Z15: 1.2097323e+11 | AB15: 0.27
A16: پاکدیس | E16: 2100000 | H16: 29225067054 | J16: 26192951190 | L16: 0 | N16: 0 | P16: 0 | R16: 0 | T16: 2100000 | V16: 11650 | X16: 29225067054 | Z16: 24275885550 | AB16: 0.05
A17: پاکسان‌ | E17: 1117416 | H17: 2543378134 | J17: 2.6610681e+09 | L17: 0 | N17: 0 | P17: -900000 | R17: 2127761612 | T17: 217416 | V17: 2510 | X17: 494865923 | Z17: 5.4149579e+08 | AB17: 0
A18: پتروشیمی اروند | E18: 980000 | H18: 49926450597 | J18: 46890314212 | L18: 0 | N18: 0 | P18: 0 | R18: 0 | T18: 980000 | V18: 56150 | X18: 49926450597 | Z18: 54601641290 | AB18: 0.12
A19: پتروشیمی بوعلی سینا | E19: 1317986 | H19: 42290641027 | J19: 4.9800947e+10 | L19: 0 | N19: 0 | P19: 0 | R19: 0 | T19: 1317986 | V19: 59510 | X19: 42290641027 | Z19: 7.7827057e+10 | AB19: 0.17
A20: پتروشیمی پردیس | E20: 2491443 | H20: 39995745247 | J20: 2.618043e+10 | L20: 1502717 | N20: 19977907568 | P20: 0 | R20: 0 | T20: 3994160 | V20: 13460 | X20: 59973652815 | Z20: 5.3345818e+10 | AB20: 0.12
... A66: تولید نیروی برق سبز منجیل | E66: 0 | H66: 0 | J66: 0 | L66: 1125000 | N66: 20641933350 | P66: 0 | R66: 0 | T66: 1125000 | V66: 28680 | X66: 20641933350 | Z66: 32015591550 | AB66: 0.07
A67: جمع | H67: 1976203041036 | J67: 3.3793766e+12 | N67: 445938670944 | R67: 282505630682 | X67: 2218634608934 | Z67: 4.216272e+12 | AB67: 9.26

Sheet واحدهای صندوق
A1: صندوق سرمایه‌گذاری امین انصار
A2: صورت وضعیت پرتفوی
A3: برای ماه منتهی به 1405/06/31
A5: -2-1 | B5: سرمایه‌گذاری در واحدهای صندوق های سرمایه گذاری
E6: 1405/05/31 | K6: تغییرات طی دوره | S6: 1405/06/31
K7: خرید/صدور طی دوره | O7: فروش/ابطال طی دوره
A8: صندوق | D8: تعداد واحد | G8: بهای تمام شده | I8: خالص ارزش فروش | K8: تعداد | M8: بهای تمام شده | O8: تعداد | Q8: مبلغ فروش | S8: تعداد | U8: قیمت ابطال / بازار هر واحد | W8: بهای تمام شده | Y8: خالص ارزش فروش | AA8: درصد به کل دارایی ها
A9: صندوق پالایشی یکم-سهام | D9: 115000 | G9: 29612310473 | I9: 59430694290 | K9: 0 | M9: 0 | O9: 0 | Q9: 0 | S9: 115000 | U9: 586058 | W9: 29612310473 | Y9: 67241657659 | AA9: 0.15
A10: صندوق س صنایع آروین1-بخشی | D10: 17252334 | G10: 179999933983 | I10: 1.9434807e+11 | K10: 0 | M10: 0 | O10: 0 | Q10: 0 | S10: 17252334 | U10: 12127 | W10: 179999933983 | Y10: 2.0873785e+11 | AA10: 0.46
A11: صندوق س. مشترک امین آوید-س | D11: 22536000 | G11: 222704368276 | I11: 371326021308 | K11: 0 | M11: 0 | O11: 0 | Q11: 0 | S11: 22536000 | U11: 19172 | W11: 222704368276 | Y11: 4.3106645e+11 | AA11: 0.95
A12: صندوق س.بخشی صنایع پاداش2-ب | D12: 2500000 | G12: 25029000000 | I12: 68285082250 | K12: 0 | M12: 0 | O12: 0 | Q12: 0 | S12: 2500000 | U12: 32757 | W12: 25029000000 | Y12: 81704147250 | AA12: 0.18
A13: صندوق س.بخشی صنایع پاداش-ب | D13: 5181000 | G13: 100217784958 | I13: 1.1074762e+11 | K13: 0 | M13: 0 | O13: 0 | Q13: 0 | S13: 5181000 | U13: 26481 | W13: 100217784958 | Y13: 1.3688251e+11 | AA13: 0.3
A14: صندوق س.بخشی کیان3-ب | D14: 5000000 | G14: 50112250000 | I14: 49885000000 | K14: 0 | M14: 0 | O14: 0 | Q14: 0 | S14: 5000000 | U14: 10207 | W14: 50112250000 | Y14: 50917619500 | AA14: 0.11
A15: صندوق س.پشتوانه طلا زرفام آشنا | D15: 285000 | G15: 15899256246 | I15: 43468415232 | K15: 0 | M15: 0 | O15: 0 | Q15: 0 | S15: 285000 | U15: 172733 | W15: 15899256246 | Y15: 49169830314 | AA15: 0.11
A16: صندوق س.دی سهام-سهام | D16: 16881233 | G16: 250115830076 | I16: 3.9291649e+11 | K16: 0 | M16: 0 | O16: 0 | Q16: 0 | S16: 16881233 | U16: 27456 | W16: 250115830076 | Y16: 4.624251e+11 | AA16: 1.02
A17: صندوق س.كالاي زمرد بيدار | D17: 3308659 | G17: 79999983034 | I17: 9.5023016e+10 | K17: 0 | M17: 0 | O17: 0 | Q17: 0 | S17: 3308659 | U17: 32799 | W17: 79999983034 | Y17: 1.0839048e+11 | AA17: 0.24
A18: صندوق س.مبتنی بر کالای فارابی | D18: 6018326 | G18: 99998640828 | I18: 1.1256393e+11 | K18: 0 | M18: 0 | O18: 0 | Q18: 0 | S18: 6018326 | U18: 21484 | W18: 99998640828 | Y18: 1.2914256e+11 | AA18: 0.28
A19: صندوق س.کالای پاداش1 | D19: 4994000 | G19: 49999928000 | I19: 49880072000 | K19: 0 | M19: 0 | O19: 0 | Q19: 0 | S19: 4994000 | U19: 10279 | W19: 49999928000 | Y19: 5.1271726e+10 | AA19: 0.11
A20: صندوق سرمایه گذاری طلای نور امین | D20: 24633181 | G20: 249999993002 | I20: 295795217448 | K20: 0 | M20: 0 | O20: 0 | Q20: 0 | S20: 24633181 | U20: 13689 | W20: 249999993002 | Y20: 337203594709 | AA20: 0.74
A21: جمع | G21: 1353689278876 | I21: 1.8436696e+12 | K21: 0 | M21: 0 | O21: 0 | Q21: 0 | W21: 1353689278876 | Y21: 2.1141535e+12 | AA21: 4.65

Sheet اوراق
A1: صندوق سرمایه‌گذاری امین انصار
A2: صورت وضعیت پرتفوی
A3: برای ماه منتهی به 1405/06/31
A5: -3-1 | B5: سرمایه‌گذاری در اوراق بهادار با درآمد ثابت یا علی‌الحساب
A6: اطلاعات اوراق با درآمد ثابت | P6: 1405/05/31 | V6: تغییرات طی دوره | AD6: 1405/06/31
V7: خرید طی دوره | Z7: فروش طی دوره
A8: نام اوراق | D8: دارای مجوز از سازمان | F8: پذیرفته شده در بورس یا فرابورس | H8: تاریخ انتشار اوراق | J8: تاریخ سررسید | L8: نرخ سود اسمی | N8: نرخ سود موثر | P8: تعداد | R8: بهای تمام شده | T8: خالص ارزش فروش | V8: تعداد | X8: بهای تمام شده | Z8: تعداد | AB8: مبلغ فروش | AD8: تعداد | AF8: قیمت بازار هر سهم | AH8: بهای تمام شده | AJ8: خالص ارزش فروش | AL8: درصد به کل دارایی ها
A9: اسنادخزانه-م4بودجه02-051021 | D9: بله | F9: بله | H9: 1402/08/15 | J9: 1405/10/21 | L9: 0 | N9: 0 | P9: 350037 | R9: 199539825033 | T9: 305423137557 | V9: 0 | X9: 0 | Z9: 0 | AB9: 0 | AD9: 350037 | AF9: 896240 | AH9: 199539825033 | AJ9: 313546577173 | AL9: 0.69
A10: صکوک اجاره فارس806-بدون ضامن | D10: بله | F10: بله | H10: 1404/06/24 | J10: 1408/06/24 | L10: 23 | N10: 23 | P10: 1700000 | R10: 1700000000000 | T10: 1529168062500 | V10: 0 | X10: 0 | Z10: 0 | AB10: 0 | AD10: 1700000 | AF10: 900000 | AH10: 1700000000000 | AJ10: 1529168062500 | AL10: 3.37
A11: صکوک مرابحه دابور92-3ماهه23% | D11: بله | F11: بله | H11: 1405/02/09 | J11: 1409/02/09 | L11: 23 | N11: 23 | P11: 1000000 | R11: 1000000000000 | T11: 999456250000 | V11: 0 | X11: 0 | Z11: 0 | AB11: 0 | AD11: 1000000 | AF11: 1000000 | AH11: 1000000000000 | AJ11: 999456250000 | AL11: 2.2
A12: صکوک مرابحه دارو901-بدون ضامن | D12: بله | F12: بله | H12: 1405/01/08 | J12: 1409/01/08 | L12: 23 | N12: 23 | P12: 1000000 | R12: 1000000000000 | T12: 999456250000 | V12: 0 | X12: 0 | Z12: 0 | AB12: 0 | AD12: 1000000 | AF12: 1000000 | AH12: 1000000000000 | AJ12: 999456250000 | AL12: 2.2
A13: صکوک مرابحه دارو904-3ماهه23% | D13: بله | F13: بله | H13: 1405/04/28 | J13: 1409/04/28 | L13: 23 | N13: 23 | P13: 1400000 | R13: 1400000000000 | T13: 1399238750000 | V13: 0 | X13: 0 | Z13: 0 | AB13: 0 | AD13: 1400000 | AF13: 1000000 | AH13: 1400000000000 | AJ13: 1399238750000 | AL13: 3.08
A14: مرابحه پارس میکاکیش060708 | D14: بله | F14: بله | H14: 1402/07/08 | J14: 1406/07/08 | L14: 23 | N14: 23 | P14: 250000 | R14: 250000000000 | T14: 249864062500 | V14: 0 | X14: 0 | Z14: 0 | AB14: 0 | AD14: 250000 | AF14: 1000000 | AH14: 250000000000 | AJ14: 249864062500 | AL14: 0.55
A15: مرابحه داروسازی داناامین090520 | D15: بله | F15: بله | H15: 1405/05/20 | J15: 1409/05/20 | L15: 23 | N15: 23 | P15: 2000000 | R15: 2000000000000 | T15: 1984052584475 | V15: 0 | X15: 0 | Z15: 0 | AB15: 0 | AD15: 2000000 | AF15: 972505 | AH15: 2000000000000 | AJ15: 1943952400812 | AL15: 4.28
A16: مرابحه س. و توسعه کیش14050724 | D16: بله | F16: بله | H16: 1401/07/24 | J16: 1405/07/24 | L16: 18 | N16: 18 | P16: 810000 | R16: 810051236951 | T16: 728603606250 | V16: 0 | X16: 0 | Z16: 0 | AB16: 0 | AD16: 810000 | AF16: 900000 | AH16: 810051236951 | AJ16: 728603606250 | AL16: 1.6
A17: مرابحه عام دولت108-ش.خ060218 | D17: بله | F17: بله | H17: 1401/04/18 | J17: 1406/02/18 | L17: 18 | N17: 18 | P17: 730000 | R17: 598668522192 | T17: 692714331660 | V17: 0 | X17: 0 | Z17: 0 | AB17: 0 | AD17: 730000 | AF17: 906080 | AH17: 598668522192 | AJ17: 661078742870 | AL17: 1.45
A18: مرابحه عام دولت116-ش.خ060630 | D18: بله | F18: بله | H18: 1401/06/30 | J18: 1406/06/30 | L18: 18 | N18: 18 | P18: 817000 | R18: 685483304137 | T18: 670792388201 | V18: 0 | X18: 0 | Z18: 0 | AB18: 0 | AD18: 817000 | AF18: 846130 | AH18: 685483304137 | AJ18: 690912322035 | AL18: 1.52
A19: مرابحه عام دولت137-ش.خ061229 | D19: بله | F19: بله | H19: 1402/06/29 | J19: 1406/12/29 | L19: 20.5 | N19: 20.5 | P19: 380000 | R19: 293827995418 | T19: 315494356612 | V19: 0 | X19: 0 | Z19: 0 | AB19: 0 | AD19: 380000 | AF19: 830700 | AH19: 293827995418 | AJ19: 315494356612 | AL19: 0.69
A20: مرابحه عام دولت173-ش.خ050620 | D20: بله | F20: بله | H20: 1403/06/20 | J20: 1405/06/20 | L20: 23 | N20: 23 | P20: 275000 | R20: 250788817310 | T20: 271849101631 | V20: 0 | X20: 0 | Z20: 275000 | AB20: 275000000000 | AD20: 0 | AF20: 0 | AH20: 0 | AJ20: 0 | AL20: 0
... A30: شهرداری مشهد | D30: خیر | F30: خیر | H30: 1405/02/31 | J30: 1409/02/31 | L30: 23 | N30: 23 | P30: 0 | R30: 0 | T30: 0 | V30: 1000000 | X30: 1000000000000 | Z30: 0 | AB30: 0 | AD30: 1000000 | AF30: 1000000 | AH30: 1000000000000 | AJ30: 1000000000000 | AL30: 2.2
A31: جمع | R31: 21635792679539 | T31: 21518147206466 | X31: 1000000000000 | AB31: 275000000000 | AH31: 22385003862229 | AJ31: 22302773507487 | AL31: 49.08

Sheet تعدیل قیمت
A1: صندوق سرمایه‌گذاری امین انصار
A2: صورت وضعیت پرتفوی
A3: برای ماه منتهی به 1405/06/31
A4: اوراق بهاداری که ارزش آنها در تاریخ گزارش تعدیل شده
A5: (بر اساس دستورالعمل نحوه تعیین قیمت خرید و فروش اوراق بهادار در صندوق های سرمایه گذاری)
C7: 1405/06/31
A8: نام اوراق بهادار | C8: تعداد | E8: قیمت پایانی | G8: قیمت تعدیل شده | I8: درصد تعدیل | K8: خالص ارزش فروش تعدیل شده | M8: دلیل تعدیل
A9: مرابحه س. و توسعه کیش14050724 | C9: 810000 | E9: 1000000 | G9: 900000 | I9: -10.00% | K9: 728603606250 | M9: سایر
A10: مرابحه پارس میکاکیش060708 | C10: 250000 | E10: 1000000 | G10: 1000000 | I10: 0.00% | K10: 249864062500 | M10: سایر
A11: مرابحه عام دولت186-ش.خ051124 | C11: 130000 | E11: 952000 | G11: 957344 | I11: 0.56% | K11: 124387047746 | M11: سایر
A12: مرابحه عام دولت223-ش.خ070431 | C12: 1095000 | E12: 825000 | G12: 863154 | I12: 4.62% | K12: 944639702713 | M12: سایر
A13: صکوک اجاره فارس806-بدون ضامن | C13: 1700000 | E13: 1000000 | G13: 900000 | I13: -10.00% | K13: 1529168062500 | M13: سایر
A14: مرابحه عام دولت234-ش.خ070808 | C14: 2940000 | E14: 833960 | G14: 837841 | I14: 0.47% | K14: 2461913146431 | M14: سایر
A15: مرابحه عام دولت235-ش.خ060915 | C15: 1300000 | E15: 869000 | G15: 895258 | I15: 3.02% | K15: 1163202564501 | M15: سایر
A16: مرابحه عام دولت265-ش.خ070430 | C16: 1068750 | E16: 814700 | G16: 830766 | I16: 1.97% | K16: 887398377117 | M16: سایر
A17: مرابحه عام دولت274-ش.خ071105 | C17: 1265000 | E17: 777000 | G17: 799697 | I17: 2.92% | K17: 1011066638416 | M17: سایر
A18: صکوک مرابحه دارو901-بدون ضامن | C18: 1000000 | E18: 1000000 | G18: 1000000 | I18: 0.00% | K18: 999456250000 | M18: سایر
A19: صکوک مرابحه دابور92-3ماهه23% | C19: 1000000 | E19: 1000000 | G19: 1000000 | I19: 0.00% | K19: 999456250000 | M19: سایر
A20: صکوک مرابحه دارو904-3ماهه23% | C20: 1400000 | E20: 1000000 | G20: 1000000 | I20: 0.00% | K20: 1399238750000 | M20: سایر
... A22: مرابحه داروسازی داناامین090520 | C22: 2000000 | E22: 1000000 | G22: 972505 | I22: -2.75% | K22: 1943952400812 | M22: سایر
A23: جمع | C23: 19958750 | K23: =SUM(K9:K22) -> 17493870690186

Sheet سپرده
A1: صندوق سرمایه‌گذاری امین انصار
A2: صورت وضعیت پرتفوی
A3: برای ماه منتهی به 1405/06/31
A5: -4-1 | B5: سرمایه‌گذاری در سپرده‌ بانکی
D6: 1405/05/31 | F6: تغییرات طی دوره | J6: 1405/06/31
A8: سپرده های بانکی | D8: مبلغ | F8: افزایش | H8: کاهش | J8: مبلغ | L8: درصد به کل دارایی ها
A9: سپرده بانک دی | D9: 1406987262909 | E9: 0 | F9: 981258190117 | G9: 0 | H9: 984207270000 | I9: 0 | J9: 1404038183026 | K9: 0 | L9: 0.0309
A10: سپرده بانک شهر | D10: 1725251075750 | E10: 0 | F10: 48641340185 | G10: 0 | H10: 48800775000 | I10: 0 | J10: 1725091640935 | K10: 0 | L10: 0.038
A11: سپرده بانک صادرات | D11: 3000089528311 | E11: 0 | F11: 84082227734 | G11: 0 | H11: 84000540000 | I11: 0 | J11: 3000171216045 | K11: 0 | L11: 0.066
A12: سپرده بانک گردشگری | D12: 7098953904025 | E12: 0 | F12: 6668955353834 | G12: 0 | H12: 7837669993870 | I12: 0 | J12: 5930239263989 | K12: 0 | L12: 0.1305
A13: سپرده موسسه اعتباری ملل | D13: 3384097590416 | E13: 0 | F13: 96877208872 | G13: 0 | H13: 96903090000 | I13: 0 | J13: 3384071709288 | K13: 0 | L13: 0.0745
A14: سپرده بانک اقتصادنوین | D14: 5166793 | F14: 4380 | H14: 0 | J14: 5171173 | L14: 0
A15: سپرده بانک سپه | D15: 1347174617 | E15: 0 | F15: 651419365682 | G15: 0 | H15: 635718542294 | I15: 0 | J15: 17047998005 | K15: 0 | L15: 0.0003
A16: سپرده بانک پارسیان | D16: 289299409 | F16: 1223359 | H16: 0 | J16: 290522768 | L16: 0
A17: سپرده بانک پاسارگاد | D17: 47054939 | F17: 198977 | H17: 0 | J17: 47253916 | L17: 0
A18: سپرده بانک تجارت | D18: 0 | F18: 1020003076144 | H18: 1019954849657 | J18: 48226487 | L18: 0
A19: سپرده بانک خاورمیانهپ | D19: 4502156587 | F19: 6171107819866 | H19: 6173379723058 | J19: 2230253395 | L19: 0
A20: سپرده بانک رفاه | D20: 4531978 | F20: 19164 | H20: 0 | J20: 4551142 | L20: 0
A21: سپرده بانک ملت | D21: 1167747562 | F21: 540188869495 | H21: 534558579020 | J21: 6798038037 | L21: 0.0001
A22: جمع | D22: =SUM(D9:D21) -> 16622742493296 | F22: =SUM(F9:F21) -> 16262534897809 | H22: =SUM(H9:H21) -> 17415193362899 | J22: =SUM(J9:J21) -> 15470084028206 | L22: =SUM(L9:L21) -> 0.3403

Sheet درآمد
A1: صندوق سرمایه‌گذاری امین انصار
A2: صورت وضعیت درآمدها
A3: برای ماه منتهی به 1405/06/31
A5: -2 | B5: درآمد حاصل از سرمایه گذاری ها
A7: شرح | D7: یادداشت | F7: مبلغ | H7: درصد از کل درآمدها | J7: درصد از کل دارایی ها
A8: درآمد حاصل از سرمایه گذاری در سهام و حق تقدم سهام | D8: 1-2 | F8: ='درآمد سرمایه گذاری در سهام'!U78 -> 156274047939 | H8: =F8/F13 -> 0.017214023 | J8: =F8/$M$8 -> 0.0034391016 | L8: =F8/$M$8 -> 0.0034391016 | M8: 45440370127471
A9: درآمد حاصل از سرمایه گذاری در واحدهای صندوق های سرمایه گذاری | D9: 2-2 | F9: ='درآمد سرمایه گذاری در صندوق'!U25 -> 157358166819 | H9: =F9/F13 -> 0.017333441 | J9: =F9/$M$8 -> 0.0034629596
A10: درآمد حاصل از سرمایه گذاری در اوراق بهادار با درآمد ثابت | D10: 3-2 | F10: ='درآمد سرمایه گذاری در اوراق به'!R37 -> 4884406697046 | H10: =F10/F13 -> 0.53803103 | J10: =F10/$M$8 -> 0.10749047
A11: درآمد حاصل از سرمایه گذاری در سپرده بانکی و گواهی سپرده | D11: 4-2 | F11: ='درآمد سپرده بانکی'!F22 -> 3878599780233 | H11: =F11/F13 -> 0.42723859 | J11: =F11/$M$8 -> 0.085355814
A12: سایر درآمدها | D12: 5-2 | F12: ='سایر درآمدها'!F11 -> 1660498904 | H12: =F12/F13 -> 0.00018290859 | J12: =F12/$M$8 -> 3.6542372e-05
A13: جمع | F13: =SUM(F8:F12) -> 9078299190941 | H13: =SUM(H8:H12) -> 1 | J13: =SUM(J8:J12) -> 0.19978489

Sheet درآمد سرمایه گذاری در سهام
A1: صندوق سرمایه‌گذاری امین انصار
A2: صورت وضعیت درآمدها
A3: برای ماه منتهی به 1405/06/31
A5: -1-2 | B5: درآمد حاصل از سرمایه­گذاری در سهام و حق تقدم سهام
D6: طی ماه | N6: از ابتدای سال مالی
J7: جمع | U7: جمع
A8: سهام | D8: درآمد سود سهام | F8: درآمد تغییر ارزش | H8: درآمد فروش | J8: مبلغ | L8: درصد از کل درآمدها | N8: درآمد سود سهام | P8: درآمد تغییر ارزش | S8: درآمد فروش | U8: مبلغ | W8: درصد از کل درآمدها
A9: بیمه البرز | D9: 0 | F9: 0 | H9: -2607838373 | J9: -2607838373 | L9: -0.22 | N9: 8832525720 | P9: 0 | S9: -2607838373 | U9: 6224687347 | W9: 0.07
A10: ح . پاکسان‌ | D10: 0 | F10: 0 | H10: 129475062 | J10: 129475062 | L10: 0.01 | N10: 0 | P10: 0 | S10: 129475062 | U10: 129475062 | W10: 0
A11: صنعتی معدنی سیمان تجارت مهریز | D11: 0 | F11: -4003239 | H11: 139868091 | J11: 135864852 | L11: 0.01 | N11: 0 | P11: -4003239 | S11: 139868091 | U11: 135864852 | W11: 0
A12: پاکسان‌ | D12: 0 | F12: -25296855 | H12: 48669189 | J12: 23372334 | L12: 0 | N12: 0 | P12: 7149251 | S12: 48669189 | U12: 55818440 | W12: 0
A13: پتروشیمی‌شیراز | D13: 0 | F13: 6241338036 | H13: -4688136107 | J13: 1553201929 | L13: 0.13 | N13: 6871521739 | P13: -542542673 | S13: -4688136107 | U13: 1640842959 | W13: 0.02
A14: توسعه‌ صنایع‌ بهشهر(هلدینگ | D14: 0 | F14: 0 | H14: 735199365 | J14: 735199365 | L14: 0.06 | N14: 0 | P14: 0 | S14: 735199365 | U14: 735199365 | W14: 0.01
A15: بانک‌ کارآفرین‌ | D15: 0 | F15: 0 | H15: 0 | J15: 0 | L15: 0 | N15: 0 | P15: 0 | S15: 11540082753 | U15: 11540082753 | W15: 0.13
A16: گروه صنعتی درپاد تبریز | D16: 0 | F16: 0 | H16: 0 | J16: 0 | L16: 0 | N16: 0 | P16: 0 | S16: -220503177 | U16: -220503177 | W16: 0
A17: صنایع شیمیایی کیمیاگران امروز | D17: 0 | F17: 0 | H17: 0 | J17: 0 | L17: 0 | N17: 0 | P17: 0 | S17: 5271632 | U17: 5271632 | W17: 0
A18: ح . تامین سرمایه امین | D18: 0 | F18: 0 | H18: 0 | J18: 0 | L18: 0 | N18: 0 | P18: 0 | S18: 6111532032 | U18: 6111532032 | W18: 0.07
A19: توسعه سامانه ی نرم افزاری نگین | D19: 0 | F19: 0 | H19: 0 | J19: 0 | L19: 0 | N19: 1747000 | P19: 0 | S19: -994527 | U19: 752473 | W19: 0
A20: فولاد خوزستان | D20: 0 | F20: 375691923 | H20: 0 | J20: 375691923 | L20: 0.03 | N20: 1670897272 | P20: -1029100485 | S20: -1983 | U20: 641794804 | W20: 0.01
... A77: شرکت س استان آذربایجان شرقی | D77: 0 | F77: 0 | H77: 0 | J77: 0 | L77: 0 | N77: 0 | P77: 0 | S77: 0 | U77: 0 | W77: 0
A78: جمع | D78: 35208824611 | F78: -10698847490 | H78: -6242762773 | J78: 18267214348 | L78: 1.53 | N78: 188933235720 | Q78: -38763046093 | S78: 6103858312 | U78: 156274047939 | W78: 1.74

Sheet درآمد سرمایه گذاری در صندوق
A1: صندوق سرمایه‌گذاری امین انصار
A2: صورت وضعیت درآمدها
A3: برای ماه منتهی به 1405/06/31
A5: -2-2 | B5: درآمد حاصل از سرمایه­گذاری در واحدهای صندوق
D6: طی ماه | N6: از ابتدای سال مالی
J7: جمع | U7: جمع
A8: صندوق | D8: درآمد سود صندوق | F8: درآمد تغییر ارزش | H8: درآمد فروش | J8: مبلغ | L8: درصد از کل درآمدها | N8: درآمد سود صندوق | P8: درآمد تغییر ارزش | S8: درآمد فروش | U8: مبلغ | W8: درصد از کل درآمدها
A9: صندوق طلای عیار مفید | D9: 0 | F9: 0 | H9: 0 | J9: 0 | L9: 0 | N9: 0 | P9: 0 | S9: 6668765084 | U9: 6668765084 | W9: 0.07
A10: صندوق امین آوید | D10: 0 | F10: 0 | H10: 0 | J10: 0 | L10: 0 | N10: 0 | P10: 0 | S10: -9335598319 | U10: -9335598319 | W10: -0.1
A11: صندوق س. كالاي پارسيان | D11: 0 | F11: 0 | H11: 0 | J11: 0 | L11: 0 | N11: 0 | P11: 0 | S11: -779371528 | U11: -779371528 | W11: -0.01
A12: صندوق س.پشتوانه طلا زرفام آشنا | D12: 0 | F12: 5701415082 | H12: 0 | J12: 5701415082 | L12: 0.49 | N12: 0 | P12: 10627217648 | S12: -6907157859 | U12: 3720059789 | W12: 0.04
A13: صندوق س.پشتوانه طلا نهایت نگر | D13: 0 | F13: 0 | H13: 0 | J13: 0 | L13: 0 | N13: 0 | P13: 0 | S13: -15052726101 | U13: -15052726101 | W13: -0.17
A14: صندوق س.کالای پاداش1 | D14: 0 | F14: 1391654008 | H14: 0 | J14: 1391654008 | L14: 0.12 | N14: 0 | P14: 1271798008 | S14: 0 | U14: 1271798008 | W14: 0.01
A15: صندوق س.بخشی کیان3-ب | D15: 0 | F15: 72395803 | H15: 0 | J15: 72395803 | L15: 0.01 | N15: 0 | P15: -80817730 | S15: 0 | U15: -80817730 | W15: 0
A16: صندوق س.مبتنی بر کالای فارابی | D16: 0 | F16: 16578624857 | H16: 0 | J16: 16578624857 | L16: 1.41 | N16: 0 | P16: 29143917697 | S16: 0 | U16: 29143917697 | W16: 0.32
A17: صندوق سرمایه گذاری طلای نور امین | D17: 0 | F17: 41408397261 | H17: 0 | J17: 41408397261 | L17: 3.53 | N17: 0 | P17: 87203621707 | S17: 0 | U17: 87203621707 | W17: 0.96
A18: صندوق س صنایع آروین1-بخشی | D18: 0 | F18: 1156493614 | H18: 0 | J18: 1156493614 | L18: 0.1 | N18: 0 | P18: 1359454724 | S18: 0 | U18: 1359454724 | W18: 0.02
A19: صندوق س.بخشی صنایع پاداش2-ب | D19: 0 | F19: 699273087 | H19: 0 | J19: 699273087 | L19: 0.06 | N19: 0 | P19: 2329211832 | S19: 0 | U19: 2329211832 | W19: 0.03
A20: صندوق س.كالاي زمرد بيدار | D20: 0 | F20: 13367465425 | H20: 0 | J20: 13367465425 | L20: 1.14 | N20: 0 | P20: 28390498659 | S20: 0 | U20: 28390498659 | W20: 0.31
... A24: صندوق س.دی سهام-سهام | D24: 0 | F24: 4010229043 | H24: 0 | J24: 4010229043 | L24: 0.34 | N24: 0 | P24: 8802546253 | S24: 0 | U24: 8802546253 | W24: 0.1
A25: جمع | D25: 0 | F25: 89205313674 | H25: 0 | J25: 89205313674 | L25: 7.61 | N25: 0 | Q25: 182764255542 | S25: -25406088723 | U25: 157358166819 | W25: 1.73

Sheet درآمد سرمایه گذاری در اوراق به
A1: صندوق سرمایه‌گذاری امین انصار
A2: صورت وضعیت درآمدها
A3: برای ماه منتهی به 1405/06/31
A5: -3-2 | B5: درآمد حاصل از سرمایه­گذاری در اوراق بهادار با درآمد ثابت:
D6: طی ماه | L6: از ابتدای سال مالی
A8: عنوان | D8: درآمد سود اوراق | F8: درآمد تغییر ارزش | H8: درآمد فروش | J8: جمع | L8: درآمد سود اوراق | N8: درآمد تغییر ارزش | P8: درآمد فروش | R8: جمع
A9: مرابحه عام دولت173-ش.خ050620 | D9: 3822934372 | F9: 0 | H9: 18526033591 | J9: 22348967963 | L9: 46642494671 | N9: 0 | P9: 18526033591 | R9: 65168528262
A10: صکوک اجاره خوارزم0411-6ماهه20% | D10: 0 | F10: 0 | H10: 0 | J10: 0 | L10: 2125334761 | N10: 0 | P10: 4923979375 | R10: 7049314136
A11: صکوک اجاره صند412-بدون ضامن | D11: 0 | F11: 0 | H11: 0 | J11: 0 | L11: 171739358966 | N11: 0 | P11: 177275277517 | R11: 349014636483
A12: صکوک اجاره صند502-بدون ضامن | D12: 0 | F12: 0 | H12: 0 | J12: 0 | L12: 164646435579 | N12: 0 | P12: 136464571250 | R12: 301111006829
A13: اجاره تامین اجتماعی14050509 | D13: 0 | F13: 0 | H13: 0 | J13: 0 | L13: 729153657783 | N13: 0 | P13: 328875828125 | R13: 1058029485908
A14: اسنادخزانه-م5بودجه01-041015 | D14: 0 | F14: 0 | H14: 0 | J14: 0 | L14: 0 | N14: 0 | P14: 1250971172 | R14: 1250971172
A15: مرابحه عام دولت180-ش.خ041024 | D15: 0 | F15: 0 | H15: 0 | J15: 0 | L15: 2522904234 | N15: 0 | P15: 1606173500 | R15: 4129077734
A16: شهرداری مشهد | D16: 5736131508 | F16: 0 | H16: 0 | J16: 5736131508 | L16: 5736131508 | N16: 0 | P16: 0 | R16: 5736131508
A17: مرابحه داروسازی داناامین090520 | D17: 62118687212 | F17: -40100183662 | H17: 0 | J17: 22018503550 | L17: 75272173612 | N17: -56047599187 | P17: 0 | R17: 19224574425
A18: مرابحه عام دولت298-ش.خ080414 | D18: 72328515600 | F18: 18657849275 | H18: 0 | J18: 90986364875 | L18: 81437024000 | N18: 19403831200 | P18: 0 | R18: 100840855200
A19: صکوک مرابحه دارو904-3ماهه23% | D19: 39857787108 | F19: 0 | H19: 0 | J19: 39857787108 | L19: 82354252040 | N19: -761249999 | P19: 0 | R19: 81593002041
A20: صکوک مرابحه دابور92-3ماهه23% | D20: 27249312563 | F20: 0 | H20: 0 | J20: 27249312563 | L20: 127989425838 | N20: -543749999 | P20: 0 | R20: 127445675839
... A37: جمع | D37: 531237918333 | F37: 56475402654 | H37: 18526033591 | J37: 606239354578 | L37: 4211477207431 | N37: 4006655085 | P37: 668922834530 | R37: 4884406697046

Sheet مبالغ تخصیصی اوراق
A1: صندوق سرمایه‌گذاری امین انصار
A2: صورت وضعیت درآمدها
A3: برای ماه منتهی به 1405/06/31
A5: -1-3-2 | B5: مبالغ تخصیص یافته بابت خرید و نگهداری اوراق بهادار با درآمد ثابت (نرخ سود ترجیحی)
M6: مبلغ شناسایی شده بابت قرارداد خرید و نگهداری اوراق بهادار | Q6: میانگین نرخ بازده تا سررسید قراردادهای منعقده
A7: طرف معامله | D7: نوع وابستگی | F7: نام ورقه بهادار | H7: تعداد اوراق | J7: بهای تمام شده اوراق | O7: نرخ اسمی
A8: شرکت تامین سرمایه امین | D8: مدیر صندوق | F8: صکوک اجاره خوارزم0411 | H8: 49000 | J8: =H8*1000000 -> 49000000000 | M8: 744937824 | O8: 0.2 | Q8: 0.34
F9: صکوک اجاره صند412 | H9: 2418200 | J9: =H9*1000000 -> 2418200000000 | M9: 69858307759 | O9: 0.19 | Q9: 0.34 | S9: 203688746497 | Y9: صند502
F10: اجاره تامین اجتماعی14050509 | H10: 5655000 | J10: =H10*1000000 -> 5655000000000 | M10: 285932503518 | O10: 0.19 | Q10: 0.34 | S10: 203688746497 | T10: =M10-S10 -> 82243757021 | W10: 203824074 | X10: 15519538 | Y10: 239956835 | Z10: 976328889 | AA10: 273951000 | AB10: 50308333 | AC10: 402890685 | AD10: 61953794297 | AE10: 270104110 | AF10: 255641873
F11: مرابحه س. و توسعه کیش14050724 | H11: 810000 | J11: =H11*1000000 -> 810000000000 | M11: 87290320594 | O11: 0.18 | Q11: 0.39 | S11: 49281734292 | T11: =M11-S11 -> 38008586302 | U11: 18080766000 | W11: 203824074 | X11: 15519538 | Y11: 239956835 | Z11: 976328889 | AA11: 273951000 | AB11: 50308333 | AC11: 402890685 | AD11: 2584968659 | AE11: 270104110 | AF11: 255641873
F12: صکوک اجاره صند502-بدون ضامن | H12: 1358000 | J12: =H12*1000000 -> 1358000000000 | M12: 70310277550 | O12: 0.19 | Q12: 0.363 | S12: 65659127550 | U12: =M12-S12 -> 4651150000 | W12: 203824074 | X12: 15519538 | Y12: 239956835 | Z12: 976328889 | AA12: 273951000 | AB12: 50308333 | AC12: 402890685 | AD12: 4464945865 | AE12: 270104110 | AF12: 255641873
F13: مرابحه پارس میکاکیش060708 | H13: 250000 | J13: =H13*1000000 -> 250000000000 | M13: 16564225232 | O13: 0.18 | Q13: 0.39 | S13: 9236713991 | T13: =M13-S13 -> 7327511241 | U13: 4125283306 | W13: 203824074 | X13: 15519538 | Y13: 239956835 | Z13: 976328889 | AA13: 273951000 | AB13: 50308333 | AC13: 402890685 | AD13: 81031290265 | AE13: 270104110 | AF13: 255641873
F14: صکوک اجاره فارس806-بدون ضامن | H14: 1700000 | J14: =H14*1000000 -> 1700000000000 | M14: 110991500269 | O14: 0.23 | Q14: 0.39 | S14: 73326104670 | T14: 73326104670 | U14: =S14-T14 -> 0 | W14: 203824074 | X14: 15519538 | Y14: 239956835 | Z14: 976328889 | AA14: 273951000 | AB14: 50308333 | AC14: 402890685 | AD14: 448630924 | AE14: 270104110 | AF14: 255641873
F15: مرابحه عام دولت265-ش.خ070430 | H15: 1068750 | J15: =H15*1000000 -> 1068750000000 | M15: 154648125000 | O15: 0.23 | Q15: 0.399 | S15: 154648125000 | W15: 203824074 | X15: 15519538 | Y15: 239956835 | Z15: 1122101374 | AA15: 273951000 | AB15: 50308333 | AC15: 402890685 | AD15: 4164494990 | AE15: 270104110 | AF15: 255641873
F16: صکوک مرابحه دارو901-بدون ضامن | H16: 1000000 | J16: =H16*1000000 -> 1000000000000 | M16: 48078531580 | O16: 0.23 | Q16: 0.4 | S16: 22958849350 | T16: 22958849350 | U16: =S16-T16 -> 0 | W16: 203824074 | X16: 15519538 | Y16: 239956835 | Z16: 1122101374 | AA16: 273951000 | AB16: 50308333 | AC16: 402890685 | AE16: 270104110 | AF16: 255641873
F17: صکوک مرابحه دابور92 | H17: 1000000 | J17: =H17*1000000 -> 1000000000000 | M17: 36812429712 | O17: 0.23 | Q17: 0.4 | S17: 13037735523 | T17: 13037735523 | U17: =S17-T17 -> 0 | W17: 203824074 | X17: 15519538 | Y17: 239956835 | Z17: 1122101374 | AA17: 273951000 | AB17: 50308333 | AC17: 402890685 | AE17: 270104110 | AF17: 255641873
F18: اوراق مرابحه داروسازی داناامین090520 | H18: 1400000 | J18: =H18*1000000 -> 1400000000000 | M18: 24012953412 | O18: 0.23 | Q18: 0.41
F19: صکوک مرابحه دارو904 | H19: 1400000 | J19: =H19*1000000 -> 1400000000000 | M19: 26015279420 | O19: 0.23 | Q19: 0.41
F20: شهرداری مشهد | H20: 1000000 | J20: =H20*1000000 -> 1000000000000 | M20: 1955309592 | O20: 0.23 | Q20: 0.435
D21: مجموع | J21: =SUM(J8:K20) -> 19108950000000 | M21: =SUM(M8:M20) -> 933214701462 | W21: 203824074 | X21: 15519538 | Y21: 239956835 | Z21: 1122101374 | AA21: 273951000 | AB21: 50373457 | AC21: 402890685 | AE21: 270104110 | AF21: 255641873
W22: 203824074 | X22: 15519538 | Y22: 239956835 | Z22: 1122101374 | AA22: 273951000 | AB22: 50373457 | AC22: 402890685 | AE22: 270104110 | AF22: 255641873
W23: 203824074 | X23: 15519538 | Y23: 239956835 | Z23: 1122101374 | AA23: 273951000 | AB23: 50373457 | AC23: 402890685 | AE23: 270104110 | AF23: 255641873
W24: 203824074 | X24: 15519538 | Y24: 239956835 | Z24: 1122101374 | AA24: 273951000 | AB24: 50373457 | AC24: 402890685 | AE24: 270104110 | AF24: 255641873
W25: 203824074 | X25: 15519538 | Y25: 239956835 | Z25: 1122101374 | AA25: 273951000 | AB25: 50373457 | AC25: 402890685 | AE25: 270104110 | AF25: 255641873
W26: 203824074 | X26: 15519538 | Y26: 239956835 | Z26: 1122101374 | AA26: 273951000 | AB26: 50373457 | AC26: 402890685 | AE26: 270104110 | AF26: 255641873
W27: 203824074 | X27: 15519538 | Y27: 239956835 | Z27: 1122101374 | AA27: 273951000 | AB27: 50373457 | AC27: 402890685 | AE27: 270104110 | AF27: 255641873
W28: 203824074 | X28: 15519538 | Y28: 239956835 | Z28: 1122101374 | AA28: 273951000 | AB28: 50373457 | AC28: 402890685 | AE28: 270104110 | AF28: 255641873
W29: 203824074 | X29: 15519538 | Y29: 239956835 | Z29: 1122101374 | AA29: 273951000 | AB29: 50373457 | AC29: 402890685 | AE29: 270104110 | AF29: 255641873
W30: 203824074 | X30: 15519538 | Y30: 239956835 | Z30: 1122101374 | AA30: 273951000 | AB30: 50373457 | AC30: 402890685 | AE30: 270104110 | AF30: 255641873
W31: 203824074 | X31: 15519538 | Y31: 239956835 | Z31: 1122101374 | AA31: 273951000 | AB31: 50373457 | AC31: 402890685 | AE31: 270104110 | AF31: 255641873
W32: 203824074 | X32: 15519538 | Y32: 239956835 | Z32: 1122101374 | AA32: 273951000 | AB32: 50373457 | AC32: 402890685 | AE32: 270104110 | AF32: 255641873
W33: 203824074 | X33: 15519538 | Y33: 239956835 | Z33: 1122101374 | AA33: 273951000 | AB33: 50373457 | AC33: 402890685 | AE33: 270104110 | AF33: 255641873
... W60: 203824074 | X60: 15519538 | Y60: 239956835 | Z60: 1092540000 | AA60: 272072769 | AB60: 50373457 | AC60: 402890685 | AE60: 270104110 | AF60: 255641873
W61: 203824074 | Y61: 239956835 | Z61: 1092540000 | AA61: 272072769 | AB61: 50373457 | AC61: 402890685 | AE61: 270104110 | AF61: 255641873
W62: 203824074 | Y62: 239956835 | Z62: 1092540000 | AA62: 272072769 | AB62: 50373457 | AC62: 402890685 | AE62: 270104110 | AF62: 255641873
W63: 203824074 | Y63: 239956835 | Z63: 1092540000 | AA63: 272072769 | AB63: 50373457 | AC63: 402890685 | AE63: 270104110 | AF63: 255641873
W64: 203824074 | Y64: 239956835 | Z64: 1092540000 | AA64: 272072769 | AB64: 50373457 | AC64: 402890685 | AE64: 270104110
W65: 203824074 | Y65: 239956835 | Z65: 1092540000 | AA65: 272072769 | AB65: 50373457 | AC65: 402890685 | AE65: 270104110
W66: 203824074 | Y66: 239956835 | Z66: 1092540000 | AA66: 272072769 | AB66: 50373457 | AC66: 402890685 | AE66: 270104110
W67: 281550694 | Y67: 239956835 | Z67: 1092540000 | AA67: 272072769 | AB67: 50373457 | AC67: 402890685 | AE67: 270104110
W68: 281550694 | Y68: 239956835 | Z68: 1092540000 | AA68: 272072769 | AB68: 50373457 | AC68: 402890685 | AE68: 270104110
W69: 281550694 | Y69: 239956835 | Z69: 1092540000 | AA69: 272072769 | AB69: 50373457 | AC69: 402890685 | AE69: 270104110
W70: 281550694 | Y70: 239956835 | Z70: 1092540000 | AA70: 272072769 | AB70: 50373457 | AC70: 402890685 | AE70: 270104110
W71: 281550694 | Y71: 239956835 | Z71: 1092540000 | AA71: 272072769 | AB71: 50373457 | AC71: 402890685 | AE71: 270104110
W72: 281550694 | Y72: 239956835 | Z72: 1092540000 | AA72: 272072769 | AB72: 50373457 | AC72: 402890685 | AE72: 270104110
W73: 281550694 | Y73: 239956835 | Z73: 1092540000 | AA73: 272072769 | AB73: 50373457 | AC73: 402890685 | AE73: 270104110
W74: 281550694 | Y74: 239956835 | Z74: 1092540000 | AA74: 272072769 | AB74: 50373457 | AC74: 402890685 | AE74: 270104110
W75: 281550694 | Y75: 239956835 | Z75: 1092540000 | AA75: 272072769 | AB75: 50373457 | AC75: 402890685 | AE75: 270104110
... W97: 281550694 | Y97: 239956835 | Z97: 1092540000 | AA97: 272072769 | AB97: 50373457 | AC97: 402890685 | AE97: 270104110
W98: 281550694 | Y98: 239956835 | Z98: 1092540000 | AA98: 272072769 | AB98: 50373457 | AC98: 402890685
W99: 281550694 | Y99: 239956835 | Z99: 1092540000 | AA99: 272072769 | AB99: 50373457 | AC99: 402890685
W100: 281550694 | Y100: 239956835 | Z100: 1092540000 | AA100: 272072769 | AB100: 50373457 | AC100: 402890685
W101: 281550694 | Y101: 239956835 | Z101: 1092540000 | AA101: 272072769 | AB101: 50373457 | AC101: 402890685
W102: 281550694 | Y102: 222482927 | Z102: 1092540000 | AA102: 252618750 | AB102: 48718750 | AC102: 402890685
W103: 281550694 | Y103: 222482927 | Z103: 1092540000 | AA103: 252618750 | AB103: 48718750 | AC103: 402890685
W104: 281550694 | Y104: 222482927 | Z104: 1092540000 | AA104: 252618750 | AB104: 48718750 | AC104: 402890685
W105: 281550694 | Y105: 222482927 | Z105: 1092540000 | AA105: 252618750 | AB105: 48718750 | AC105: 402890685
W106: 281550694 | Y106: 222482927 | Z106: 1092540000 | AA106: 252618750 | AB106: 48718750 | AC106: 402890685
W107: 281550694 | Y107: 222482927 | Z107: 1079765038 | AA107: 252618750 | AB107: 48718750 | AC107: 402890685
W108: 281550694 | Y108: 222482927 | Z108: 1079765038 | AA108: 252618750 | AB108: 48718750 | AC108: 402890685
W109: 281550694 | Y109: 222482927 | Z109: 1079765038 | AA109: 252618750 | AB109: 48718750 | AC109: 402890685
... W194: 418690629 | Y194: 228369867 | Z194: 1079765038 | AA194: 274772903 | AB194: 51344086 | AC194: 402890685
W195: 418690629 | Y195: 228369867 | Z195: 1079765038
W196: 418690629 | Y196: 228369867 | Z196: 1079765038
W197: 418690629 | Y197: 228369867 | Z197: 1079765038
W198: 418690629 | Y198: 228369867 | Z198: 1079765038
W199: 418690629 | Y199: 228369867 | Z199: 1079765038
W200: 418690629 | Y200: 228369867
W201: 418690629 | Y201: 228369867
W202: 418690629 | Y202: 228369867
W203: 418690629 | Y203: 228369867
W204: 418690629 | Y204: 228369867
W205: 418690629 | Y205: 228369867
W206: 418690629 | Y206: 228369867
W207: 418690629 | Y207: 228369867
W208: 418690629 | Y208: 228369867
W209: 418690629 | Y209: 228369867
W210: 418690629 | Y210: 228369867
W211: 418690629 | Y211: 228369867
... W315: 8816426 | Y315: 34706667
Y316: 34706667
Y317: 34706667
Y318: 34706667
Y319: 34706667
Y320: 34706667
Y321: 34706667
Y322: 34706667
Y323: 34706667
Y324: 34706667
Y325: 34706667
Y326: 34706667
Y327: 34706667
... Y412: 34706667

Sheet درآمد سپرده بانکی
A1: صندوق سرمایه‌گذاری امین انصار
A2: صورت وضعیت درآمدها
A3: برای ماه منتهی به 1405/06/31
A5: -4-2 | B5: درآمد حاصل از سرمایه­گذاری در سپرده بانکی و گواهی سپرده
D6: طی ماه | F6: از ابتدای سال مالی
A7: نام سپرده بانکی | D7: سود سپرده بانکی و گواهی سپرده | F7: سود سپرده بانکی و گواهی سپرده
A8: سپرده بانک پاسارگاد | D8: 198977 | E8: 0 | F8: 181472140481 | G8: 0
A9: سپرده بانک دی | D9: 39362935322 | E9: 0 | F9: 617274551529
A10: سپرده بانک رفاه | D10: 19164 | E10: 0 | F10: 42740057048
A11: سپرده بانک شهر | D11: 48641340002 | E11: 0 | F11: 216158823041
A12: سپرده بانک صادرات | D12: 84082191777 | E12: 0 | F12: 482383737517
A13: سپرده بانک گردشگری | D13: 201329950800 | E13: 0 | F13: 1504801808226
A14: سپرده بانک ملت | D14: 0 | E14: 0 | F14: 633804657331 | G14: 0
A15: سپرده موسسه اعتباری ملل | D15: 96877208872 | E15: 0 | F15: 199914932204
A16: سپرده بانک اقتصاد نوین | D16: 4380 | F16: 4628320
A17: سپرده بانک سپه | D17: 419912 | E17: 0 | F17: 6852703
A18: سپرده بانک پارسیان | D18: 1223359 | F18: 10671963
A19: سپرده بانک خاورمیانه | D19: 61625 | F19: 22775253
A20: سپرده بانک صادرات | D20: 35954 | F20: 2692750
A21: سپرده بانک ملت | D21: 105870 | F21: 1451867
A22: جمع | D22: =SUM(D8:D21) -> 470295696014 | F22: =SUM(F8:F21) -> 3878599780233

Sheet سایر درآمدها
A1: صندوق سرمایه‌گذاری امین انصار
A2: صورت وضعیت درآمدها
A3: برای ماه منتهی به 1405/06/31
A5: -5-2 | B5: سایر درآمدها
D6: طی ماه | F6: 1405/06/31
A7: سایر درآمدها | D7: مبلغ | F7: مبلغ
A8: سایر درآمدها | D8: 0 | F8: 57669524
A9: معین برای سایر درآمدهای تنزیل سود بانک | D9: 0 | F9: 851917441
A10: تعدیل کارمزد کارگزار | D10: -407530758 | F10: 750911939
A11: جمع | D11: -407530758 | F11: 1660498904

Sheet درآمد سود سهام
A1: صندوق سرمایه‌گذاری امین انصار
A2: صورت وضعیت درآمدها
A3: برای ماه منتهی به 1405/06/31
A5: درآمد سود سهام
A6: نام سهام | C6: اطلاعات مجمع | I6: طی ماه | O6: از ابتدای سال مالی
C7: تاریخ تشکیل مجمع | E7: تعداد سهام متعلقه در زمان مجمع | G7: سود متعلق به هر سهم | I7: جمع درآمد سود سهام | K7: هزینه تنزیل | M7: خالص درآمد سود سهام | O7: جمع درآمد سود سهام | Q7: هزینه تنزیل | S7: خالص درآمد سود سهام
A8: سرمایه‌گذاری‌صندوق‌بازنشستگی‌ | C8: 1405/04/30 | E8: 3200000 | G8: 1840 | I8: 0 | K8: 0 | M8: 0 | O8: 5888000000 | Q8: 0 | S8: 5888000000
A9: سرمایه‌گذاری‌غدیر(هلدینگ‌ | C9: 1404/12/10 | E9: 4400000 | G9: 1500 | I9: 0 | K9: 0 | M9: 0 | O9: 6600000000 | Q9: 0 | S9: 6600000000
A10: ملی‌ صنایع‌ مس‌ ایران‌ | C10: 1405/04/31 | E10: 38525000 | G10: 450 | I10: 0 | K10: 0 | M10: 0 | O10: 17336250000 | Q10: 0 | S10: 17336250000
A11: پتروشیمی‌شیراز | C11: 1405/03/27 | E11: 1000000 | G11: 6928 | I11: 0 | K11: 0 | M11: 0 | O11: 6928000000 | Q11: 56478261 | S11: 6871521739
A12: پالایش نفت اصفهان | C12: 1405/04/30 | E12: 5119599 | G12: 740 | I12: 0 | K12: 0 | M12: 0 | O12: 3788503260 | Q12: 0 | S12: 3788503260
A13: معدنی‌وصنعتی‌چادرملو | C13: 1405/02/31 | E13: 5417095 | G13: 200 | I13: 0 | K13: 0 | M13: 0 | O13: 1083419000 | Q13: 0 | S13: 1083419000
A14: فولاد خوزستان | C14: 1405/05/28 | E14: 20376796 | G14: 82 | I14: 0 | K14: 0 | M14: 0 | O14: 1670897272 | Q14: 0 | S14: 1670897272
A15: پتروشیمی شازند | C15: 1405/04/25 | E15: 3720858 | G15: 1100 | I15: 0 | K15: 0 | M15: 0 | O15: 4092943800 | Q15: 0 | S15: 4092943800
A16: بهنوش‌ ایران‌ | C16: 1405/05/31 | E16: 166631 | G16: 1650 | I16: 274941150 | K16: 5535728 | M16: 269405422 | O16: 274941150 | Q16: 5535728 | S16: 269405422
A17: بانک ملت | C17: 1405/04/31 | E17: 80055229 | G17: 46 | I17: 0 | K17: 0 | M17: 0 | O17: 3682540534 | Q17: 0 | S17: 3682540534
A18: بیمه البرز | C18: 1405/04/31 | E18: 73604381 | G18: 120 | I18: 0 | K18: 0 | M18: 0 | O18: 8832525720 | Q18: 0 | S18: 8832525720
A19: پالایش نفت بندرعباس | C19: 1405/05/18 | E19: 8000000 | G19: 1189 | I19: 0 | K19: 0 | M19: 0 | O19: 9512000000 | Q19: 363436100 | S19: 9148563900
... A33: گروه پتروشیمی تابان فردا | C33: 1405/06/31 | E33: 400000 | G33: 610 | I33: 244000000 | K33: 4752183 | M33: 239247817 | O33: 244000000 | Q33: 4752183 | S33: 239247817
A34: جمع | I34: 37181304460 | K34: 1972479849 | M34: 35208824611 | O34: 191611426346 | Q34: 2678190626 | S34: 188933235720

Sheet سود اوراق بهادار
A1: صندوق سرمایه‌گذاری امین انصار
A2: صورت وضعیت درآمدها
A3: برای ماه منتهی به 1405/06/31
A5: سود اوراق بهادار با درآمد ثابت
A6: شرح | J6: طی ماه | P6: از ابتدای سال مالی
C7: تاریخ دریافت سود | E7: تاریخ سررسید | H7: نرخ سود علی الحساب | J7: درآمد سود | L7: هزینه تنزیل | N7: خالص درآمد | P7: درآمد سود | R7: هزینه تنزیل | T7: خالص درآمد
A8: شهرداری مشهد | E8: 1409/02/31 | H8: 23 | J8: 5736131508 | L8: 0 | N8: 5736131508 | P8: 5736131508 | R8: 0 | T8: 5736131508
A9: مرابحه داروسازی داناامین090520 | E9: 1409/05/20 | H9: 23 | J9: 62118687212 | L9: 0 | N9: 62118687212 | P9: 75272173612 | R9: 0 | T9: 75272173612
A10: مرابحه عام دولت298-ش.خ080414 | E10: 1408/04/14 | H10: 23 | J10: 72328515600 | L10: 0 | N10: 72328515600 | P10: 81437024000 | R10: 0 | T10: 81437024000
A11: صکوک مرابحه دارو904-3ماهه23% | E11: 1409/04/28 | H11: 23 | J11: 39857787108 | L11: 0 | N11: 39857787108 | P11: 82354252040 | R11: 0 | T11: 82354252040
A12: صکوک مرابحه دابور92-3ماهه23% | E12: 1409/02/09 | H12: 23 | J12: 27249312563 | L12: 0 | N12: 27249312563 | P12: 127989425838 | R12: 0 | T12: 127989425838
A13: صکوک مرابحه دارو901-بدون ضامن | E13: 1409/01/08 | H13: 23 | J13: 28469083510 | L13: 0 | N13: 28469083510 | P13: 159975106906 | R13: 0 | T13: 159975106906
A14: مرابحه عام دولت274-ش.خ071105 | E14: 1407/11/05 | H14: 23 | J14: 23106778268 | L14: 0 | N14: 23106778268 | P14: 45759541104 | R14: 0 | T14: 45759541104
A15: مرابحه عام دولت265-ش.خ070430 | E15: 1407/04/30 | H15: 23 | J15: 19716360489 | L15: 0 | N15: 19716360489 | P15: 308006463587 | R15: 0 | T15: 308006463587
A16: مرابحه عام دولت235-ش.خ060915 | E16: 1406/09/15 | H16: 23 | J16: 27367743520 | L16: 0 | N16: 27367743520 | P16: 228095931632 | R16: 0 | T16: 228095931632
A17: مرابحه عام دولت234-ش.خ070808 | E17: 1407/08/08 | H17: 23 | J17: 62393006634 | L17: 0 | N17: 62393006634 | P17: 517346041856 | R17: 0 | T17: 517346041856
A18: صکوک اجاره فارس806-بدون ضامن | E18: 1408/06/24 | H18: 23 | J18: 46600691733 | L18: 0 | N18: 46600691733 | P18: 405526927467 | R18: 0 | T18: 405526927467
A19: مرابحه عام دولت223-ش.خ070431 | E19: 1407/04/31 | H19: 23 | J19: 20180460510 | L19: 0 | N19: 20180460510 | P19: 188487414377 | R19: 0 | T19: 188487414377
... A33: صکوک اجاره خوارزم0411-6ماهه20% | E33: 1404/11/18 | H33: 20 | J33: 0 | L33: 0 | N33: 0 | P33: 2125334761 | R33: 0 | T33: 2125334761
A34: جمع | J34: 531237918333 | L34: 0 | N34: 531237918333 | P34: 4211477207431 | R34: 0 | T34: 4211477207431

Sheet سود سپرده بانکی
A1: صندوق سرمایه‌گذاری امین انصار
A2: صورت وضعیت درآمدها
A3: برای ماه منتهی به 1405/06/31
A5: سود سپرده بانکی
A6: شرح | C6: طی ماه | I6: از ابتدای سال مالی
C7: درآمد سود | E7: هزینه تنزیل | G7: خالص درآمد | I7: درآمد سود | K7: هزینه تنزیل | M7: خالص درآمد
A8: سپرده بانک پاسارگاد | C8: 198977 | D8: 0 | E8: 0 | F8: 0 | G8: 198977 | H8: 0 | I8: 181472140481 | J8: 0 | K8: 0 | L8: 0 | M8: 181472140481
A9: سپرده بانک دی ونک | C9: 39362935322 | D9: 0 | E9: -185877829 | F9: 0 | G9: 39548813151 | H9: 0 | I9: 617274551529 | J9: 0 | K9: 459746621 | L9: 0 | M9: 616814804908
A10: سپرده بانک رفاه | C10: 19164 | D10: 0 | E10: 0 | F10: 0 | G10: 19164 | H10: 0 | I10: 42740057048 | J10: 0 | K10: 0 | L10: 0 | M10: 42740057048
A11: سپرده بانک شهر | C11: 48641340002 | D11: 0 | E11: 0 | F11: 0 | G11: 48641340002 | H11: 0 | I11: 216158823041 | J11: 0 | K11: 44202454 | L11: 0 | M11: 216114620587 | N11: 0
A12: سپرده بانک صادرات | C12: 84082227731 | D12: 0 | E12: 0 | F12: 0 | G12: 84082227731 | H12: 0 | I12: 482386430267 | J12: 0 | K12: 0 | L12: 0 | M12: 482386430267
A13: سپرده بانک گردشگری | C13: 201329950800 | D13: 0 | E13: -137458084 | F13: 0 | G13: 201467408884 | H13: 0 | I13: 1504801808226 | J13: 0 | K13: 954033218 | L13: 0 | M13: 1503847775008
A14: سپرده بانک ملت | C14: 105870 | D14: 0 | E14: 0 | F14: 0 | G14: 105870 | H14: 0 | I14: 633806109198 | J14: 0 | K14: 14007234 | L14: 0 | M14: 633792101964 | N14: 0
A15: سپرده موسسه اعتباری ملل | C15: 96877208872 | D15: 0 | E15: 0 | F15: 0 | G15: 96877208872 | H15: 0 | I15: 199914932204 | J15: 0 | K15: 556409868 | L15: 0 | M15: 199358522336 | N15: 0
A16: سپرده بانک اقتصادنوین | C16: 4380 | E16: 0 | G16: 4380 | I16: 4628320 | K16: 0 | M16: 4628320
A17: سپرده بانک سپه | C17: 419912 | D17: 0 | E17: 0 | F17: 0 | G17: 419912 | H17: 0 | I17: 6852703 | J17: 0 | K17: 0 | L17: 0 | M17: 6852703
A18: سپرده بانک پارسیان | C18: 1223359 | E18: 0 | G18: 1223359 | I18: 10671963 | K18: 0 | M18: 10671963
A19: سپرده بانک خاورمیانه | C19: 61625 | E19: 0 | G19: 61625 | I19: 22775253 | K19: 0 | M19: 22775253
A20: جمع | C20: =SUM(C8:C19) -> 470295696014 | E20: =SUM(E8:E19) -> -323335913 | G20: =SUM(G8:G19) -> 470619031927 | I20: =SUM(I8:I19) -> 3878599780233 | K20: =SUM(K8:K19) -> 2028399395 | M20: =SUM(M8:M19) -> 3876571380838

Sheet درآمد ناشی از فروش
A1: صندوق سرمایه‌گذاری امین انصار
A2: صورت وضعیت درآمدها
A3: برای ماه منتهی به 1405/06/31
A5: سود(زیان) حاصل از فروش اوراق بهادار
A6: شرح | C6: طی ماه | K6: از ابتدای سال مالی
C7: تعداد | E7: خالص بهای فروش | G7: ارزش دفتری | I7: سود و زیان ناشی از فروش | K7: تعداد | M7: خالص بهای فروش | O7: ارزش دفتری | Q7: سود و زیان ناشی از فروش
A8: بیمه البرز | C8: 73604381 | E8: 165100226013 | G8: 167708064386 | I8: -2607838373 | K8: 73604381 | M8: 165100226013 | O8: 167708064386 | Q8: -2607838373
A9: ح . پاکسان‌ | C9: 510674 | E9: 731713059 | G9: 602237997 | I9: 129475062 | K9: 510674 | M9: 731713059 | O9: 602237997 | Q9: 129475062
A10: صنعتی معدنی سیمان تجارت مهریز | C10: 460000 | E10: 13097007687 | G10: 12957139596 | I10: 139868091 | K10: 460000 | M10: 13097007687 | O10: 12957139596 | Q10: 139868091
A11: پاکسان‌ | C11: 900000 | E11: 2127761612 | G11: 2079092423 | I11: 48669189 | K11: 900000 | M11: 2127761612 | O11: 2079092423 | Q11: 48669189
A12: پتروشیمی‌شیراز | C12: 1000000 | E12: 67166756573 | G12: 71854892680 | I12: -4688136107 | K12: 1000000 | M12: 67166756573 | O12: 71854892680 | Q12: -4688136107
A13: توسعه‌ صنایع‌ بهشهر(هلدینگ | C13: 5967052 | E13: 34282165738 | G13: 33546966373 | I13: 735199365 | K13: 5967052 | M13: 34282165738 | O13: 33546966373 | Q13: 735199365
A14: بانک‌ کارآفرین‌ | C14: 0 | E14: 0 | G14: 0 | I14: 0 | K14: 107173119 | M14: 315205604959 | O14: 303665522206 | Q14: 11540082753
A15: صندوق طلای عیار مفید | C15: 0 | E15: 0 | G15: 0 | I15: 0 | K15: 49750 | M15: 24540793774 | O15: 17872028690 | Q15: 6668765084
A16: صندوق امین آوید | C16: 0 | E16: 0 | G16: 0 | I16: 0 | K16: 17636000 | M16: 171033928000 | O16: 180369526319 | Q16: -9335598319
A17: گروه صنعتی درپاد تبریز | C17: 0 | E17: 0 | G17: 0 | I17: 0 | K17: 750000 | M17: 6109909582 | O17: 6330412759 | Q17: -220503177
A18: صنایع شیمیایی کیمیاگران امروز | C18: 0 | E18: 0 | G18: 0 | I18: 0 | K18: 22728 | M18: 125616384 | O18: 120344752 | Q18: 5271632
A19: ح . تامین سرمایه امین | C19: 0 | E19: 0 | G19: 0 | I19: 0 | K19: 23389916 | M19: 75970447168 | O19: 69858915136 | Q19: 6111532032
... A38: جمع | C38: 82717107 | E38: 557505630682 | G38: 545222359864 | I38: 12283270818 | K38: 280125982 | M38: 11307814236305 | O38: 10658193632186 | Q38: 649620604119

Sheet درآمد ناشی از تغییر قیمت اوراق
A1: صندوق سرمایه‌گذاری امین انصار
A2: صورت وضعیت درآمدها
A3: برای ماه منتهی به 1405/06/31
A5: درآمد ناشی از تغییر قیمت اوراق بهادار
A6: شرح | C6: طی ماه | K6: از ابتدای سال مالی
C7: تعداد | E7: خالص ارزش فروش | G7: ارزش دفتری | I7: سود و زیان ناشی از تغییر قیمت | K7: تعداد | M7: خالص ارزش فروش | O7: ارزش دفتری | Q7: سود و زیان ناشی از تغییر قیمت
A8: بانک ملت | C8: 118750204 | E8: 170149790548 | G8: 170178486230 | I8: -28695681 | K8: 118750204 | M8: 170149790548 | O8: 172993070843 | Q8: -2843280294
A9: سرمایه گذاری تامین اجتماعی | C9: 29700000 | E9: 104325283260 | G9: 103591111968 | I9: 734171291 | K9: 29700000 | M9: 104325283260 | O9: 102193582593 | Q9: 2131700666
A10: صندوق س.کالای پاداش1 | C10: 4994000 | E10: 51271726008 | G10: 49880072000 | I10: 1391654008 | K10: 4994000 | M10: 51271726008 | O10: 49999928000 | Q10: 1271798008
A11: شرکت س استان اصفهان | C11: 10000 | E11: 7233648 | G11: 7233648 | I11: 0 | K11: 10000 | M11: 7233648 | O11: 7233648 | Q11: 0
A12: پالایش نفت بندرعباس | C12: 9976789 | E12: 145723119157 | G12: 144963462807 | I12: 759656350 | K12: 9976789 | M12: 145723119157 | O12: 153997029570 | Q12: -8273910412
A13: س. نفت و گاز و پتروشیمی تأمین | C13: 1500000 | E13: 68838731250 | G13: 72987027023 | I13: -4148295773 | K13: 1500000 | M13: 68838731250 | O13: 72663759346 | Q13: -3825028096
A14: داروسازی دانا | C14: 2433918 | E14: 46442446340 | G14: 46597739432 | I14: -155293091 | K14: 2433918 | M14: 46442446340 | O14: 47890296996 | Q14: -1447850655
A15: س.عدالت ا. کهگیلویه وبویراحمد | C15: 10000 | E15: 11212651 | G15: 11212651 | I15: 0 | K15: 10000 | M15: 11212651 | O15: 11212651 | Q15: 0
A16: شرکت س استان سیستان وبلوچستان | C16: 10000 | E16: 6122305 | G16: 6122305 | I16: 0 | K16: 10000 | M16: 6122305 | O16: 6122305 | Q16: 0
A17: پالایش نفت اصفهان | C17: 8515957 | E17: 104781595289 | G17: 104974107363 | I17: -192512073 | K17: 8515957 | M17: 104781595289 | O17: 107840867691 | Q17: -3059272401
A18: صندوق س.بخشی کیان3-ب | C18: 5000000 | E18: 50917619500 | G18: 50845223697 | I18: 72395803 | K18: 5000000 | M18: 50917619500 | O18: 50998437231 | Q18: -80817730
A19: پالایش نفت تهران | C19: 19109034 | E19: 120973229046 | G19: 120251344460 | I19: 721884586 | K19: 19109034 | M19: 120973229046 | O19: 128615437237 | Q19: -7642208190
... A95: جمع | C95: 667816363 | E95: 27633199076833 | G95: 27498217207999 | I95: 134981868838 | K95: 667816363 | M95: 27633199076833 | O95: 27485191212323 | Q95: 148007864534
