Workbook

Sheet صورت وضعیت
A1: صندوق سرمایه‌گذاری امین انصار
A2: صورت وضعیت پرتفوی
A3: برای ماه منتهی به 1405/07/30

Sheet سهام
A1: صندوق سرمایه‌گذاری امین انصار
A2: صورت وضعیت پرتفوی
A3: برای ماه منتهی به 1405/07/30
A4: -1 | B4: سرمایه گذاری ها
A5: -1-1 | C5: سرمایه گذاری در سهام و حق تقدم سهام
F6: 1405/06/31 | L6: تغییرات طی دوره | T6: 1405/07/30
L7: خرید طی دوره | P7: فروش طی دوره
A8: نام شرکت | E8: تعداد | H8: بهای تمام شده | J8: خالص ارزش فروش | L8: تعداد | N8: بهای تمام شده | P8: تعداد | R8: مبلغ فروش | T8: تعداد | V8: قیمت بازار هر سهم | X8: بهای تمام شده | Z8: خالص ارزش فروش | AB8: درصد به کل دارایی ها
A9: احیا استیل فولاد بافت | E9: 10666000 | H9: 35825573026 | J9: 49742693554 | L9: 0 | N9: 0 | P9: -5330000 | R9: 25597787819 | T9: 5336000 | V9: 5240 | X9: 17922863083 | Z9: 2.7744504e+10 | AB9: 0.06
A10: بانک ملت | E10: 118750204 | H10: 139121364532 | J10: 1.7014979e+11 | L10: 0 | N10: 0 | P10: 0 | R10: 0 | T10: 118750204 | V10: 1518 | X10: 139121364532 | Z10: 1.7886938e+11 | AB10: 0.39
A11: بهنوش‌ ایران‌ | E11: 166631 | H11: 16246775821 | J11: 1.3738345e+10 | L11: 0 | N11: 0 | P11: 0 | R11: 0 | T11: 166631 | V11: 113400 | X11: 16246775821 | Z11: 1.874989e+10 | AB11: 0.04
A12: پالایش نفت اصفهان | E12: 8515957 | H12: 79022418211 | J12: 1.047816e+11 | L12: 0 | N12: 0 | P12: 0 | R12: 0 | T12: 8515957 | V12: 13710 | X12: 79022418211 | Z12: 1.1585126e+11 | AB12: 0.25
A13: پالایش نفت بندرعباس | E13: 9976789 | H13: 99983393360 | J13: 1.4572312e+11 | L13: 0 | N13: 0 | P13: 0 | R13: 0 | T13: 9976789 | V13: 15250 | X13: 99983393360 | Z13: 1.5096994e+11 | AB13: 0.33
A14: پالایش نفت تهران | E14: 19109034 | H14: 69743070543 | J14: 1.2097323e+11 | L14: 0 | N14: 0 | P14: 0 | R14: 0 | T14: 19109034 | V14: 6700 | X14: 69743070543 | Z14: 1.2704085e+11 | AB14: 0.28
A15: پاکدیس | E15: 2100000 | H15: 29225067054 | J15: 24275885550 | L15: 0 | N15: 0 | P15: 0 | R15: 0 | T15: 2100000 | V15: 14850 | X15: 29225067054 | Z15: 30943939950 | AB15: 0.07
A16: پاکسان‌ | E16: 217416 | H16: 494865923 | J16: 5.4149579e+08 | L16: 0 | N16: 0 | P16: 0 | R16: 0 | T16: 217416 | V16: 2662 | X16: 494865923 | Z16: 5.7428757e+08 | AB16: 0
A17: پتروشیمی اروند | E17: 980000 | H17: 49926450597 | J17: 54601641290 | L17: 0 | N17: 0 | P17: 0 | R17: 0 | T17: 980000 | V17: 65540 | X17: 49926450597 | Z17: 63732708284 | AB17: 0.14
A18: پتروشیمی بوعلی سینا | E18: 1317986 | H18: 42290641027 | J18: 7.7827057e+10 | L18: 0 | N18: 0 | P18: 0 | R18: 0 | T18: 1317986 | V18: 59430 | X18: 42290641027 | Z18: 7.7722433e+10 | AB18: 0.17
A19: پتروشیمی پردیس | E19: 3994160 | H19: 59973652815 | J19: 5.3345818e+10 | L19: 0 | N19: 0 | P19: -3994160 | R19: 46641971905 | T19: 0 | V19: 0 | X19: 0 | Z19: 0 | AB19: 0
A20: پتروشیمی شازند | E20: 3720858 | H20: 59792798251 | J20: 1.0363713e+11 | L20: 0 | N20: 0 | P20: 0 | R20: 0 | T20: 3720858 | V20: 35090 | X20: 59792798251 | Z20: 1.2955564e+11 | AB20: 0.28
... A64: سرمایه گذاری دنیای سرمایه | E64: 0 | H64: 0 | J64: 0 | L64: 7262500 | N64: 26359761413 | P64: 0 | R64: 0 | T64: 7262500 | V64: 5040 | X64: 26359761413 | Z64: 36320058810 | AB64: 0.08
A65: جمع | H65: 2218634608934 | J65: 4.216272e+12 | N65: 164533418039 | R65: 376992472841 | X65: 2264257288884 | Z65: 4.7336944e+12 | AB65: 10.33

Sheet واحدهای صندوق
A1: صندوق سرمایه‌گذاری امین انصار
A2: صورت وضعیت پرتفوی
A3: برای ماه منتهی به 1405/07/30
A5: -2-1 | B5: سرمایه‌گذاری در واحدهای صندوق های سرمایه گذاری
E6: 1405/06/31 | K6: تغییرات طی دوره | S6: 1405/07/30
K7: خرید/صدور طی دوره | O7: فروش/ابطال طی دوره
A8: صندوق | D8: تعداد واحد | G8: بهای تمام شده | I8: خالص ارزش فروش | K8: تعداد | M8: بهای تمام شده | O8: تعداد | Q8: مبلغ فروش | S8: تعداد | U8: قیمت ابطال / بازار هر واحد | W8: بهای تمام شده | Y8: خالص ارزش فروش | AA8: درصد به کل دارایی ها
A9: صندوق پالایشی یکم-سهام | D9: 115000 | G9: 29612310473 | I9: 67241657659 | K9: 0 | M9: 0 | O9: 0 | Q9: 0 | S9: 115000 | U9: 636060 | W9: 29612310473 | Y9: 72978662130 | AA9: 0.16
A10: صندوق س صنایع آروین1-بخشی | D10: 17252334 | G10: 179999933983 | I10: 2.0873785e+11 | K10: 0 | M10: 0 | O10: 0 | Q10: 0 | S10: 17252334 | U10: 13109 | W10: 179999933983 | Y10: 2.2564068e+11 | AA10: 0.49
A11: صندوق س. مشترک امین آوید-س | D11: 22536000 | G11: 222704368276 | I11: 4.3106645e+11 | K11: 0 | M11: 0 | O11: 0 | Q11: 0 | S11: 22536000 | U11: 21840 | W11: 222704368276 | Y11: 491054211648 | AA11: 1.07
A12: صندوق س.بخشی صنایع پاداش2-ب | D12: 2500000 | G12: 25029000000 | I12: 81704147250 | K12: 0 | M12: 0 | O12: 0 | Q12: 0 | S12: 2500000 | U12: 37128 | W12: 25029000000 | Y12: 92606514000 | AA12: 0.2
A13: صندوق س.بخشی صنایع پاداش-ب | D13: 5181000 | G13: 100217784958 | I13: 1.3688251e+11 | K13: 0 | M13: 0 | O13: 0 | Q13: 0 | S13: 5181000 | U13: 29057 | W13: 100217784958 | Y13: 1.5019807e+11 | AA13: 0.33
A14: صندوق س.بخشی کیان3-ب | D14: 5000000 | G14: 50112250000 | I14: 50917619500 | K14: 0 | M14: 0 | O14: 0 | Q14: 0 | S14: 5000000 | U14: 13838 | W14: 50112250000 | Y14: 69030863000 | AA14: 0.15
A15: صندوق س.پشتوانه طلا زرفام آشنا | D15: 285000 | G15: 15899256246 | I15: 49169830314 | K15: 0 | M15: 0 | O15: 0 | Q15: 0 | S15: 285000 | U15: 190505 | W15: 15899256246 | Y15: 54228772290 | AA15: 0.12
A16: صندوق س.دی سهام-سهام | D16: 16881233 | G16: 250115830076 | I16: 4.624251e+11 | K16: 0 | M16: 0 | O16: 0 | Q16: 0 | S16: 16881233 | U16: 30675 | W16: 250115830076 | Y16: 5.1664081e+11 | AA16: 1.13
A17: صندوق س.كالاي زمرد بيدار | D17: 3308659 | G17: 79999983034 | I17: 1.0839048e+11 | K17: 0 | M17: 0 | O17: 0 | Q17: 0 | S17: 3308659 | U17: 36106 | W17: 79999983034 | Y17: 1.1931909e+11 | AA17: 0.26
A18: صندوق س.مبتنی بر کالای فارابی | D18: 6018326 | G18: 99998640828 | I18: 1.2914256e+11 | K18: 0 | M18: 0 | O18: 0 | Q18: 0 | S18: 6018326 | U18: 23607 | W18: 99998640828 | Y18: 1.4190413e+11 | AA18: 0.31
A19: صندوق س.کالای پاداش1 | D19: 4994000 | G19: 49999928000 | I19: 5.1271726e+10 | K19: 0 | M19: 0 | O19: 0 | Q19: 0 | S19: 4994000 | U19: 10018 | W19: 49999928000 | Y19: 4.9969856e+10 | AA19: 0.11
A20: صندوق سرمایه گذاری طلای نور امین | D20: 24633181 | G20: 249999993002 | I20: 337203594709 | K20: 0 | M20: 0 | O20: 0 | Q20: 0 | S20: 24633181 | U20: 15466 | W20: 249999993002 | Y20: 380976757346 | AA20: 0.83
A21: جمع | G21: 1353689278876 | I21: 2.1141535e+12 | K21: 0 | M21: 0 | O21: 0 | Q21: 0 | W21: 1353689278876 | Y21: 2.3645484e+12 | AA21: 5.16

Sheet اوراق
A1: صندوق سرمایه‌گذاری امین انصار
A2: صورت وضعیت پرتفوی
A3: برای ماه منتهی به 1405/07/30
A5: -3-1 | B5: سرمایه‌گذاری در اوراق بهادار با درآمد ثابت یا علی‌الحساب
A6: اطلاعات اوراق با درآمد ثابت | P6: 1405/06/31 | V6: تغییرات طی دوره | AD6: 1405/07/30
V7: خرید طی دوره | Z7: فروش طی دوره
A8: نام اوراق | D8: دارای مجوز از سازمان | F8: پذیرفته شده در بورس یا فرابورس | H8: تاریخ انتشار اوراق | J8: تاریخ سررسید | L8: نرخ سود اسمی | N8: نرخ سود موثر | P8: تعداد | R8: بهای تمام شده | T8: خالص ارزش فروش | V8: تعداد | X8: بهای تمام شده | Z8: تعداد | AB8: مبلغ فروش | AD8: تعداد | AF8: قیمت بازار هر سهم | AH8: بهای تمام شده | AJ8: خالص ارزش فروش | AL8: درصد به کل دارایی ها
A9: اسنادخزانه-م4بودجه02-051021 | D9: بله | F9: بله | H9: 1402/08/15 | J9: 1405/10/21 | L9: 0 | N9: 0 | P9: 350037 | R9: 199539825033 | T9: 313546577173 | V9: 0 | X9: 0 | Z9: 0 | AB9: 0 | AD9: 350037 | AF9: 923500 | AH9: 199539825033 | AJ9: 323083397326 | AL9: 0.71
A10: صکوک اجاره فارس806-بدون ضامن | D10: بله | F10: بله | H10: 1404/06/24 | J10: 1408/06/24 | L10: 23 | N10: 23 | P10: 1700000 | R10: 1700000000000 | T10: 1529168062500 | V10: 0 | X10: 0 | Z10: 0 | AB10: 0 | AD10: 1700000 | AF10: 900000 | AH10: 1700000000000 | AJ10: 1529168062500 | AL10: 3.34
A11: صکوک مرابحه دابور92-3ماهه23% | D11: بله | F11: بله | H11: 1405/02/09 | J11: 1409/02/09 | L11: 23 | N11: 23 | P11: 1000000 | R11: 1000000000000 | T11: 999456250000 | V11: 0 | X11: 0 | Z11: 0 | AB11: 0 | AD11: 1000000 | AF11: 1000000 | AH11: 1000000000000 | AJ11: 999456250000 | AL11: 2.18
A12: صکوک مرابحه دارو901-بدون ضامن | D12: بله | F12: بله | H12: 1405/01/08 | J12: 1409/01/08 | L12: 23 | N12: 23 | P12: 1000000 | R12: 1000000000000 | T12: 999456250000 | V12: 0 | X12: 0 | Z12: 0 | AB12: 0 | AD12: 1000000 | AF12: 1000000 | AH12: 1000000000000 | AJ12: 999456250000 | AL12: 2.18
A13: صکوک مرابحه دارو904-3ماهه23% | D13: بله | F13: بله | H13: 1405/04/28 | J13: 1409/04/28 | L13: 23 | N13: 23 | P13: 1400000 | R13: 1400000000000 | T13: 1399238750000 | V13: 0 | X13: 0 | Z13: 0 | AB13: 0 | AD13: 1400000 | AF13: 1000000 | AH13: 1400000000000 | AJ13: 1399238750000 | AL13: 3.05
A14: مرابحه پارس میکاکیش060708 | D14: بله | F14: بله | H14: 1402/07/08 | J14: 1406/07/08 | L14: 23 | N14: 23 | P14: 250000 | R14: 250000000000 | T14: 249864062500 | V14: 0 | X14: 0 | Z14: 0 | AB14: 0 | AD14: 250000 | AF14: 1000000 | AH14: 250000000000 | AJ14: 249864062500 | AL14: 0.55
A15: مرابحه داروسازی داناامین090520 | D15: بله | F15: بله | H15: 1405/05/20 | J15: 1409/05/20 | L15: 23 | N15: 23 | P15: 2000000 | R15: 2000000000000 | T15: 1943952400812 | V15: 0 | X15: 0 | Z15: 0 | AB15: 0 | AD15: 2000000 | AF15: 892182 | AH15: 2000000000000 | AJ15: 1783393752075 | AL15: 3.89
A16: مرابحه س. و توسعه کیش14050724 | D16: بله | F16: بله | H16: 1401/07/24 | J16: 1405/07/24 | L16: 18 | N16: 18 | P16: 810000 | R16: 810051236951 | T16: 728603606250 | V16: 0 | X16: 0 | Z16: 810000 | AB16: 810000000000 | AD16: 0 | AF16: 0 | AH16: 0 | AJ16: 0 | AL16: 0
A17: مرابحه عام دولت108-ش.خ060218 | D17: بله | F17: بله | H17: 1401/04/18 | J17: 1406/02/18 | L17: 18 | N17: 18 | P17: 730000 | R17: 598668522192 | T17: 661078742870 | V17: 0 | X17: 0 | Z17: 0 | AB17: 0 | AD17: 730000 | AF17: 906080 | AH17: 598668522192 | AJ17: 661078742870 | AL17: 1.44
A18: مرابحه عام دولت116-ش.خ060630 | D18: بله | F18: بله | H18: 1401/06/30 | J18: 1406/06/30 | L18: 18 | N18: 18 | P18: 817000 | R18: 685483304137 | T18: 690912322035 | V18: 0 | X18: 0 | Z18: 0 | AB18: 0 | AD18: 817000 | AF18: 851000 | AH18: 685483304137 | AJ18: 694888948568 | AL18: 1.52
A19: مرابحه عام دولت137-ش.خ061229 | D19: بله | F19: بله | H19: 1402/06/29 | J19: 1406/12/29 | L19: 20.5 | N19: 20.5 | P19: 380000 | R19: 293827995418 | T19: 315494356612 | V19: 0 | X19: 0 | Z19: 0 | AB19: 0 | AD19: 380000 | AF19: 830700 | AH19: 293827995418 | AJ19: 315494356612 | AL19: 0.69
A20: مرابحه عام دولت186-ش.خ051124 | D20: بله | F20: بله | H20: 1403/07/24 | J20: 1405/11/24 | L20: 23 | N20: 23 | P20: 130000 | R20: 122117643939 | T20: 124387047746 | V20: 0 | X20: 0 | Z20: 0 | AB20: 0 | AD20: 130000 | AF20: 965896 | AH20: 122117643939 | AJ20: 125498203226 | AL20: 0.27
... A29: شهرداری مشهد | D29: خیر | F29: خیر | H29: 1405/02/31 | J29: 1409/02/31 | L29: 23 | N29: 23 | P29: 1000000 | R29: 1000000000000 | T29: 1000000000000 | V29: 0 | X29: 0 | Z29: 0 | AB29: 0 | AD29: 1000000 | AF29: 1000000 | AH29: 1000000000000 | AJ29: 1000000000000 | AL29: 2.18
A30: جمع | R30: 22385003862229 | T30: 22302773507487 | V30: 0 | X30: 0 | AB30: 810000000000 | AH30: 21574952625278 | AJ30: 21494250099562 | AL30: 46.92

Sheet تعدیل قیمت
A1: صندوق سرمایه‌گذاری امین انصار
A2: صورت وضعیت پرتفوی
A3: برای ماه منتهی به 1405/07/30
A4: اوراق بهاداری که ارزش آنها در تاریخ گزارش تعدیل شده
A5: (بر اساس دستورالعمل نحوه تعیین قیمت خرید و فروش اوراق بهادار در صندوق های سرمایه گذاری)
C7: 1405/07/30
A8: نام اوراق بهادار | C8: تعداد | E8: قیمت پایانی | G8: قیمت تعدیل شده | I8: درصد تعدیل | K8: خالص ارزش فروش تعدیل شده | M8: دلیل تعدیل
A9: مرابحه پارس میکاکیش060708 | C9: 250000 | E9: 940900 | G9: 1000000 | I9: 6.28% | K9: 249864062500 | M9: سایر
A10: مرابحه عام دولت186-ش.خ051124 | C10: 130000 | E10: 964400 | G10: 965896 | I10: 0.16% | K10: 125498203226 | M10: سایر
A11: مرابحه عام دولت223-ش.خ070431 | C11: 1095000 | E11: 825000 | G11: 867897 | I11: 5.20% | K11: 949830463701 | M11: سایر
A12: صکوک اجاره فارس806-بدون ضامن | C12: 1700000 | E12: 1000000 | G12: 900000 | I12: -10.00% | K12: 1529168062500 | M12: سایر
A13: مرابحه عام دولت234-ش.خ070808 | C13: 2940000 | E13: 852890 | G13: 842693 | I13: -1.20% | K13: 2476170269902 | M13: سایر
A14: مرابحه عام دولت235-ش.خ060915 | C14: 1300000 | E14: 869400 | G14: 901380 | I14: 3.68% | K14: 1171156837012 | M14: سایر
A15: مرابحه عام دولت265-ش.خ070430 | C15: 1068750 | E15: 811840 | G15: 836456 | I15: 3.03% | K15: 893476257972 | M15: سایر
A16: مرابحه عام دولت274-ش.خ071105 | C16: 1265000 | E16: 799960 | G16: 804753 | I16: 0.60% | K16: 1017459000678 | M16: سایر
A17: صکوک مرابحه دارو901-بدون ضامن | C17: 1000000 | E17: 940900 | G17: 1000000 | I17: 6.28% | K17: 999456250000 | M17: سایر
A18: صکوک مرابحه دابور92-3ماهه23% | C18: 1000000 | E18: 1000000 | G18: 1000000 | I18: 0.00% | K18: 999456250000 | M18: سایر
A19: صکوک مرابحه دارو904-3ماهه23% | C19: 1400000 | E19: 1000000 | G19: 1000000 | I19: 0.00% | K19: 1399238750000 | M19: سایر
A20: مرابحه عام دولت298-ش.خ080414 | C20: 4000000 | E20: 749800 | G20: 767720 | I20: 2.39% | K20: 3069210209000 | M20: سایر
A21: مرابحه داروسازی داناامین090520 | C21: 2000000 | E21: 940900 | G21: 892182 | I21: -5.18% | K21: 1783393752075 | M21: سایر
A22: جمع | K22: 16663378368566

Sheet سپرده
A1: صندوق سرمایه‌گذاری امین انصار
A2: صورت وضعیت پرتفوی
A3: برای ماه منتهی به 1405/07/30
A5: -4-1 | B5: سرمایه‌گذاری در سپرده‌ بانکی
D6: 1405/06/31 | F6: تغییرات طی دوره | J6: 1405/07/30
A8: سپرده های بانکی | D8: مبلغ | F8: افزایش | H8: کاهش | J8: مبلغ | L8: درصد به کل دارایی ها
A9: سپرده بانک دی | D9: 1404038183026 | F9: 9680244504681 | H9: 5775305750000 | J9: 5308982098921 | L9: 0.1162
A10: سپرده بانک شهر | D10: 1725091640935 | E10: 0 | F10: 6053860234023 | G10: 0 | H10: 7151045005000 | I10: 0 | J10: 627906869958 | K10: 0 | L10: 0.0137
A11: سپرده بانک صادرات | D11: 3000171216045 | E11: 0 | F11: 3001700380341 | G11: 0 | H11: 6001618707945 | I11: 0 | J11: 252888441 | K11: 0 | L11: 0
A12: سپرده بانک گردشگری | D12: 5930239263989 | E12: 0 | F12: 13089555374157 | G12: 0 | H12: 9810516204641 | I12: 0 | J12: 9209278433505 | K12: 0 | L12: 0.201
A13: سپرده موسسه اعتباری ملل | D13: 3384071709288 | E13: 0 | F13: 2536670317364 | G13: 0 | H13: 4953903240000 | I13: 0 | J13: 966838786652 | K13: 0 | L13: 0.0211 | M13: 0
A14: سپرده بانک اقتصاد نوین | D14: 5171173 | F14: 21941 | H14: 31900 | J14: 5161214 | L14: 0
A15: سپرده بانک سپه | D15: 17047998005 | E15: 0 | F15: 683598020561 | G15: 0 | H15: 698020908000 | I15: 0 | J15: 2625110566 | K15: 0 | L15: 0
A16: سپرده بانک پارسیان | D16: 290522768 | F16: 1228532 | H16: 1108800 | J16: 290642500 | L16: 0
A17: سپرده بانک پاسارگاد | D17: 47253916 | F17: 199822 | H17: 1108800 | J17: 46344938 | L17: 0
A18: سپرده بانک تجارت | D18: 48226487 | F18: 4060 | H18: 424000 | J18: 47806547 | L18: 0
A19: سپرده بانک خاورمیانه | D19: 2230253395 | F19: 4173904458101 | H19: 4173583095552 | J19: 2551615944 | L19: 0.0001
A20: سپرده بانک رفاه | D20: 4551142 | F20: 15046 | H20: 1008000 | J20: 3558188 | L20: 0
A21: سپرده بانک ملت | D21: 6798038037 | F21: 644081845182 | H21: 620314837164 | J21: 30565046055 | L21: 0.0007
A22: جمع | D22: 15470084028206 | F22: 39863616603811 | H22: 39184311429802 | J22: 16149389202215 | L22: =SUM(L9:L21) -> 0.3528

Sheet درآمد
A1: صندوق سرمایه‌گذاری امین انصار
A2: صورت وضعیت درآمدها
A3: برای ماه منتهی به 1405/07/30
A5: -2 | B5: درآمد حاصل از سرمایه گذاری ها
A7: شرح | D7: یادداشت | F7: مبلغ | H7: درصد از کل درآمدها | J7: درصد از کل دارایی ها
A8: درآمد حاصل از سرمایه گذاری در سهام و حق تقدم سهام | D8: 1-2 | F8: ='درآمد سرمایه گذاری در سهام'!U79 -> 206360573218 | H8: 1.09 | J8: 0.03
A9: درآمد حاصل از سرمایه گذاری در واحدهای صندوق های سرمایه گذاری | D9: 2-2 | F9: ='درآمد سرمایه گذاری در صندوق'!U25 -> 234848610443 | H9: 6.77 | J9: 0.17
A10: درآمد حاصل از سرمایه گذاری در اوراق بهادار با درآمد ثابت | D10: 3-2 | F10: ='درآمد سرمایه گذاری در اوراق به'!R37 -> 5506853207977 | H10: 54.41 | J10: 1.36
A11: درآمد حاصل از سرمایه گذاری در سپرده بانکی و گواهی سپرده | D11: 4-2 | F11: ='درآمد سپرده بانکی'!H21 -> 4306467939288 | H11: 37.4 | J11: 0.93
A12: سایر درآمدها | D12: 5-2 | F12: ='سایر درآمدها'!F11 -> 1660498904 | H12: 0.15 | J12: 0
A13: جمع | F13: =SUM(F8:F12) -> 10256190829830 | H13: 99.82 | J13: 2.49

Sheet درآمد سرمایه گذاری در سهام
A1: صندوق سرمایه‌گذاری امین انصار
A2: صورت وضعیت درآمدها
A3: برای ماه منتهی به 1405/07/30
A5: -1-2 | B5: درآمد حاصل از سرمایه­گذاری در سهام و حق تقدم سهام
D6: طی ماه | N6: از ابتدای سال مالی
J7: جمع | U7: جمع
A8: سهام | D8: درآمد سود سهام | F8: درآمد تغییر ارزش | H8: درآمد فروش | J8: مبلغ | L8: درصد از کل درآمدها | N8: درآمد سود سهام | P8: درآمد تغییر ارزش | S8: درآمد فروش | U8: مبلغ | W8: درصد از کل درآمدها
A9: ملی‌ صنایع‌ مس‌ ایران‌ | D9: 0 | F9: 3913527216 | H9: -4465002158 | J9: -551474942 | L9: -0.05 | N9: 17336250000 | P9: 14113572437 | S9: -4465002158 | U9: 26984820279 | W9: 0.26
A10: پتروشیمی پردیس | D10: 0 | F10: 0 | H10: -1874138160 | J10: -1874138160 | L10: -0.16 | N10: 0 | P10: 0 | S10: -1874138160 | U10: -1874138160 | W10: -0.02
A11: احیا استیل فولاد بافت | D11: 0 | F11: 48350565 | H11: -552003862 | J11: -503653297 | L11: -0.04 | N11: 0 | P11: 36395223551 | S11: 35566147448 | U11: 71961370999 | W11: 0.71
A12: بانک‌ کارآفرین‌ | D12: 0 | F12: 0 | H12: 0 | J12: 0 | L12: 0 | N12: 0 | P12: 0 | S12: 11540082753 | U12: 11540082753 | W12: 0.11
A13: بیمه البرز | D13: 0 | F13: 0 | H13: 0 | J13: 0 | L13: 0 | N13: 8832525720 | P13: 0 | S13: -2607838373 | U13: 6224687347 | W13: 0.06
A14: گروه صنعتی درپاد تبریز | D14: 0 | F14: 0 | H14: 0 | J14: 0 | L14: 0 | N14: 0 | P14: 0 | S14: -220503177 | U14: -220503177 | W14: 0
A15: صنایع شیمیایی کیمیاگران امروز | D15: 0 | F15: 0 | H15: 0 | J15: 0 | L15: 0 | N15: 0 | P15: 0 | S15: 5271632 | U15: 5271632 | W15: 0
A16: ح . تامین سرمایه امین | D16: 0 | F16: 0 | H16: 0 | J16: 0 | L16: 0 | N16: 0 | P16: 0 | S16: 6111532032 | U16: 6111532032 | W16: 0.06
A17: ح . پاکسان‌ | D17: 0 | F17: 0 | H17: 0 | J17: 0 | L17: 0 | N17: 0 | P17: 0 | S17: 129475062 | U17: 129475062 | W17: 0
A18: توسعه سامانه ی نرم افزاری نگین | D18: 0 | F18: 0 | H18: 0 | J18: 0 | L18: 0 | N18: 1747000 | P18: 0 | S18: -994527 | U18: 752473 | W18: 0
A19: صنعتی معدنی سیمان تجارت مهریز | D19: 0 | F19: -22673014 | H19: 0 | J19: -22673014 | L19: 0 | N19: 0 | P19: -26676254 | S19: 139868091 | U19: 113191837 | W19: 0
A20: فولاد خوزستان | D20: 0 | F20: 441466001 | H20: 0 | J20: 441466001 | L20: 0.04 | N20: 1670897272 | P20: -587634484 | S20: -1983 | U20: 1083260805 | W20: 0.01
... A78: پاکدیس | D78: 0 | F78: 261577541 | H78: 0 | J78: 261577541 | L78: 0.02 | N78: 0 | P78: -74686765 | S78: 0 | U78: -74686765 | W78: 0
A79: جمع | D79: 6722988357 | F79: 12663811561 | H79: -6891144180 | J79: 12495655738 | L79: 1.1 | N79: 196835803271 | Q79: -25806095495 | S79: 35330865442 | U79: 206360573218 | W79: 2.04

Sheet درآمد سرمایه گذاری در صندوق
A1: صندوق سرمایه‌گذاری امین انصار
A2: صورت وضعیت درآمدها
A3: برای ماه منتهی به 1405/07/30
A5: -2-2 | B5: درآمد حاصل از سرمایه­گذاری در واحدهای صندوق
D6: طی ماه | N6: از ابتدای سال مالی
J7: جمع | U7: جمع
A8: صندوق | D8: درآمد سود صندوق | F8: درآمد تغییر ارزش | H8: درآمد فروش | J8: مبلغ | L8: درصد از کل درآمدها | N8: درآمد سود صندوق | P8: درآمد تغییر ارزش | S8: درآمد فروش | U8: مبلغ | W8: درصد از کل درآمدها
A9: صندوق طلای عیار مفید | D9: 0 | F9: 0 | H9: 0 | J9: 0 | L9: 0 | N9: 0 | P9: 0 | S9: 6668765084 | U9: 6668765084 | W9: 0.07
A10: صندوق امین آوید | D10: 0 | F10: 0 | H10: 0 | J10: 0 | L10: 0 | N10: 0 | P10: 0 | S10: -9335598319 | U10: -9335598319 | W10: -0.09
A11: صندوق س. كالاي پارسيان | D11: 0 | F11: 0 | H11: 0 | J11: 0 | L11: 0 | N11: 0 | P11: 0 | S11: -779371528 | U11: -779371528 | W11: -0.01
A12: صندوق س.پشتوانه طلا زرفام آشنا | D12: 0 | F12: 5058941976 | H12: 0 | J12: 5058941976 | L12: 0.44 | N12: 0 | P12: 15686159624 | S12: -6907157859 | U12: 8779001765 | W12: 0.09
A13: صندوق س.پشتوانه طلا نهایت نگر | D13: 0 | F13: 0 | H13: 0 | J13: 0 | L13: 0 | N13: 0 | P13: 0 | S13: -15052726101 | U13: -15052726101 | W13: -0.15
A14: صندوق س صنایع آروین1-بخشی | D14: 0 | F14: 1639155880 | H14: 0 | J14: 1639155880 | L14: 0.14 | N14: 0 | P14: 2998610604 | S14: 0 | U14: 2998610604 | W14: 0.03
A15: صندوق سرمایه گذاری طلای نور امین | D15: 0 | F15: 43773182637 | H15: 0 | J15: 43773182637 | L15: 3.83 | N15: 0 | P15: 130976784344 | S15: 0 | U15: 130976784344 | W15: 1.28
A16: صندوق س.بخشی صنایع پاداش2-ب | D16: 0 | F16: 839178429 | H16: 0 | J16: 839178429 | L16: 0.07 | N16: 0 | P16: 3168390261 | S16: 0 | U16: 3168390261 | W16: 0.03
A17: صندوق س.کالای پاداش1 | D17: 0 | F17: -1301869878 | H17: 0 | J17: -1301869878 | L17: -0.11 | N17: 0 | P17: -30071870 | S17: 0 | U17: -30071870 | W17: 0
A18: صندوق س.بخشی صنایع پاداش-ب | D18: 0 | F18: 330359227 | H18: 0 | J18: 330359227 | L18: 0.03 | N18: 0 | P18: 2214000803 | S18: 0 | U18: 2214000803 | W18: 0.02
A19: صندوق س. مشترک امین آوید-س | D19: 0 | F19: 1426498779 | H19: 0 | J19: 1426498779 | L19: 0.12 | N19: 0 | P19: 11806801724 | S19: 0 | U19: 11806801724 | W19: 0.12
A20: صندوق س.مبتنی بر کالای فارابی | D20: 0 | F20: 12761573810 | H20: 0 | J20: 12761573810 | L20: 1.12 | N20: 0 | P20: 41905491507 | S20: 0 | U20: 41905491507 | W20: 0.41
... A24: صندوق س.كالاي زمرد بيدار | D24: 0 | F24: 10928605230 | H24: 0 | J24: 10928605230 | L24: 0.96 | N24: 0 | P24: 39319103889 | S24: 0 | U24: 39319103889 | W24: 0.39
A25: جمع | D25: 0 | F25: 77490463625 | H25: 0 | J25: 77490463625 | L25: 6.78 | N25: 0 | Q25: 260254699166 | S25: -25406088723 | U25: 234848610443 | W25: 2.32

Sheet درآمد سرمایه گذاری در اوراق به
A1: صندوق سرمایه‌گذاری امین انصار
A2: صورت وضعیت درآمدها
A3: برای ماه منتهی به 1405/07/30
A5: -3-2 | B5: درآمد حاصل از سرمایه­گذاری در اوراق بهادار با درآمد ثابت:
D6: طی ماه | L6: از ابتدای سال مالی
A8: عنوان | D8: درآمد سود اوراق | F8: درآمد تغییر ارزش | H8: درآمد فروش | J8: جمع | L8: درآمد سود اوراق | N8: درآمد تغییر ارزش | P8: درآمد فروش | R8: جمع
A9: مرابحه س. و توسعه کیش14050724 | D9: 12168539095 | F9: 0 | H9: 81396393750 | J9: 93564932845 | L9: 209304540115 | N9: 0 | P9: 81396393750 | R9: 290700933865
A10: صکوک اجاره خوارزم0411-6ماهه20% | D10: 0 | F10: 0 | H10: 0 | J10: 0 | L10: 2125334761 | N10: 0 | P10: 4923979375 | R10: 7049314136
A11: صکوک اجاره صند412-بدون ضامن | D11: 0 | F11: 0 | H11: 0 | J11: 0 | L11: 171739358966 | N11: 0 | P11: 177275277517 | R11: 349014636483
A12: صکوک اجاره صند502-بدون ضامن | D12: 0 | F12: 0 | H12: 0 | J12: 0 | L12: 164646435579 | N12: 0 | P12: 136464571250 | R12: 301111006829
A13: اجاره تامین اجتماعی14050509 | D13: 0 | F13: 0 | H13: 0 | J13: 0 | L13: 729153657783 | N13: 0 | P13: 328875828125 | R13: 1058029485908
A14: اسنادخزانه-م5بودجه01-041015 | D14: 0 | F14: 0 | H14: 0 | J14: 0 | L14: 0 | N14: 0 | P14: 1250971172 | R14: 1250971172
A15: مرابحه عام دولت173-ش.خ050620 | D15: 0 | F15: 0 | H15: 0 | J15: 0 | L15: 46642494671 | N15: 0 | P15: 18526033591 | R15: 65168528262
A16: مرابحه عام دولت180-ش.خ041024 | D16: 0 | F16: 0 | H16: 0 | J16: 0 | L16: 2522904234 | N16: 0 | P16: 1606173500 | R16: 4129077734
A17: شهرداری مشهد | D17: 28680657540 | F17: 0 | H17: 0 | J17: 28680657540 | L17: 34416789048 | N17: 0 | P17: 0 | R17: 34416789048
A18: مرابحه داروسازی داناامین090520 | D18: 155485904580 | F18: -160558648736 | H18: 0 | J18: -5072744156 | L18: 230758078192 | N18: -216606247924 | P18: 0 | R18: 14151830268
A19: مرابحه عام دولت298-ش.خ080414 | D19: 72925997200 | F19: 17686377800 | H19: 0 | J19: 90612375000 | L19: 154363021200 | N19: 37090209000 | P19: 0 | R19: 191453230200
A20: صکوک مرابحه دارو904-3ماهه23% | D20: 39375986360 | F20: 0 | H20: 0 | J20: 39375986360 | L20: 121730238400 | N20: -761249999 | P20: 0 | R20: 120968988401
... A37: جمع | D37: 620969918856 | F37: -79919801674 | H37: 81396393750 | J37: 622446510932 | L37: 4832447126287 | N37: -75913146590 | P37: 750319228280 | R37: 5506853207977

Sheet مبالغ تخصیصی اوراق
A1: صندوق سرمایه‌گذاری امین انصار
A2: صورت وضعیت درآمدها
A3: برای ماه منتهی به 1405/07/30
A5: -1-3-2 | B5: مبالغ تخصیص یافته بابت خرید و نگهداری اوراق بهادار با درآمد ثابت (نرخ سود ترجیحی)
M6: مبلغ شناسایی شده بابت قرارداد خرید و نگهداری اوراق بهادار | Q6: میانگین نرخ بازده تا سررسید قراردادهای منعقده
A7: طرف معامله | D7: نوع وابستگی | F7: نام ورقه بهادار | H7: تعداد اوراق | J7: بهای تمام شده اوراق | O7: نرخ اسمی
A8: شرکت تامین سرمایه امین | D8: مدیر صندوق | F8: صکوک اجاره خوارزم0411 | H8: 49000 | J8: =H8*1000000 -> 49000000000 | M8: 744937824 | O8: 0.2 | Q8: 0.34
F9: صکوک اجاره صند412 | H9: 2418200 | J9: =H9*1000000 -> 2418200000000 | M9: 69858307759 | O9: 0.19 | Q9: 0.34 | S9: 203688746497 | Y9: صند502
F10: اجاره تامین اجتماعی14050509 | H10: 5655000 | J10: =H10*1000000 -> 5655000000000 | M10: 285932503518 | O10: 0.19 | Q10: 0.34 | S10: 203688746497 | T10: =M10-S10 -> 82243757021 | W10: 203824074 | X10: 15519538 | Y10: 239956835 | Z10: 976328889 | AA10: 273951000 | AB10: 50308333 | AC10: 402890685 | AD10: 61953794297 | AE10: 270104110 | AF10: 255641873
F11: مرابحه س. و توسعه کیش14050724 | H11: 810000 | J11: =H11*1000000 -> 810000000000 | M11: 89548454266 | O11: 0.18 | Q11: 0.39 | S11: 49281734292 | T11: =M11-S11 -> 40266719974 | U11: 18080766000 | W11: 203824074 | X11: 15519538 | Y11: 239956835 | Z11: 976328889 | AA11: 273951000 | AB11: 50308333 | AC11: 402890685 | AD11: 2584968659 | AE11: 270104110 | AF11: 255641873
F12: صکوک اجاره صند502-بدون ضامن | H12: 1358000 | J12: =H12*1000000 -> 1358000000000 | M12: 70310277550 | O12: 0.19 | Q12: 0.363 | S12: 65659127550 | U12: =M12-S12 -> 4651150000 | W12: 203824074 | X12: 15519538 | Y12: 239956835 | Z12: 976328889 | AA12: 273951000 | AB12: 50308333 | AC12: 402890685 | AD12: 4464945865 | AE12: 270104110 | AF12: 255641873
F13: مرابحه پارس میکاکیش060708 | H13: 250000 | J13: =H13*1000000 -> 250000000000 | M13: 18279742773 | O13: 0.18 | Q13: 0.41 | S13: 9236713991 | T13: =M13-S13 -> 9043028782 | U13: 4125283306 | W13: 203824074 | X13: 15519538 | Y13: 239956835 | Z13: 976328889 | AA13: 273951000 | AB13: 50308333 | AC13: 402890685 | AD13: 81031290265 | AE13: 270104110 | AF13: 255641873
F14: صکوک اجاره فارس806-بدون ضامن | H14: 1700000 | J14: =H14*1000000 -> 1700000000000 | M14: 125200136477 | O14: 0.23 | Q14: 0.41 | S14: 73326104670 | T14: 73326104670 | U14: =S14-T14 -> 0 | W14: 203824074 | X14: 15519538 | Y14: 239956835 | Z14: 976328889 | AA14: 273951000 | AB14: 50308333 | AC14: 402890685 | AD14: 448630924 | AE14: 270104110 | AF14: 255641873
F15: مرابحه عام دولت265-ش.خ070430 | H15: 1068750 | J15: =H15*1000000 -> 1068750000000 | M15: 154648125000 | O15: 0.23 | Q15: 0.399 | S15: 154648125000 | W15: 203824074 | X15: 15519538 | Y15: 239956835 | Z15: 1122101374 | AA15: 273951000 | AB15: 50308333 | AC15: 402890685 | AD15: 4164494990 | AE15: 270104110 | AF15: 255641873
F16: صکوک مرابحه دارو901-بدون ضامن | H16: 1000000 | J16: =H16*1000000 -> 1000000000000 | M16: 57579084909 | O16: 0.23 | Q16: 0.41 | S16: 22958849350 | T16: 22958849350 | U16: =S16-T16 -> 0 | W16: 203824074 | X16: 15519538 | Y16: 239956835 | Z16: 1122101374 | AA16: 273951000 | AB16: 50308333 | AC16: 402890685 | AE16: 270104110 | AF16: 255641873
F17: صکوک مرابحه دابور92 | H17: 1000000 | J17: =H17*1000000 -> 1000000000000 | M17: 44481685902 | O17: 0.23 | Q17: 0.39 | S17: 13037735523 | T17: 13037735523 | U17: =S17-T17 -> 0 | W17: 203824074 | X17: 15519538 | Y17: 239956835 | Z17: 1122101374 | AA17: 273951000 | AB17: 50308333 | AC17: 402890685 | AE17: 270104110 | AF17: 255641873
F18: اوراق مرابحه داروسازی داناامین090520 | H18: 1400000 | J18: =H18*1000000 -> 1400000000000 | M18: 41165062992 | O18: 0.23 | Q18: 0.41
F19: صکوک مرابحه دارو904 | H19: 1400000 | J19: =H19*1000000 -> 1400000000000 | M19: 38022331460 | O19: 0.23 | Q19: 0.41
F20: شهرداری مشهد | H20: 1000000 | J20: =H20*1000000 -> 1000000000000 | M20: 11731857552 | O20: 0.23 | Q20: 0.435
D21: مجموع | J21: =SUM(J8:K20) -> 19108950000000 | M21: =SUM(M8:M20) -> 1007502507982 | W21: 203824074 | X21: 15519538 | Y21: 239956835 | Z21: 1122101374 | AA21: 273951000 | AB21: 50373457 | AC21: 402890685 | AE21: 270104110 | AF21: 255641873
W22: 203824074 | X22: 15519538 | Y22: 239956835 | Z22: 1122101374 | AA22: 273951000 | AB22: 50373457 | AC22: 402890685 | AE22: 270104110 | AF22: 255641873
W23: 203824074 | X23: 15519538 | Y23: 239956835 | Z23: 1122101374 | AA23: 273951000 | AB23: 50373457 | AC23: 402890685 | AE23: 270104110 | AF23: 255641873
W24: 203824074 | X24: 15519538 | Y24: 239956835 | Z24: 1122101374 | AA24: 273951000 | AB24: 50373457 | AC24: 402890685 | AE24: 270104110 | AF24: 255641873
W25: 203824074 | X25: 15519538 | Y25: 239956835 | Z25: 1122101374 | AA25: 273951000 | AB25: 50373457 | AC25: 402890685 | AE25: 270104110 | AF25: 255641873
W26: 203824074 | X26: 15519538 | Y26: 239956835 | Z26: 1122101374 | AA26: 273951000 | AB26: 50373457 | AC26: 402890685 | AE26: 270104110 | AF26: 255641873
W27: 203824074 | X27: 15519538 | Y27: 239956835 | Z27: 1122101374 | AA27: 273951000 | AB27: 50373457 | AC27: 402890685 | AE27: 270104110 | AF27: 255641873
W28: 203824074 | X28: 15519538 | Y28: 239956835 | Z28: 1122101374 | AA28: 273951000 | AB28: 50373457 | AC28: 402890685 | AE28: 270104110 | AF28: 255641873
W29: 203824074 | X29: 15519538 | Y29: 239956835 | Z29: 1122101374 | AA29: 273951000 | AB29: 50373457 | AC29: 402890685 | AE29: 270104110 | AF29: 255641873
W30: 203824074 | X30: 15519538 | Y30: 239956835 | Z30: 1122101374 | AA30: 273951000 | AB30: 50373457 | AC30: 402890685 | AE30: 270104110 | AF30: 255641873
W31: 203824074 | X31: 15519538 | Y31: 239956835 | Z31: 1122101374 | AA31: 273951000 | AB31: 50373457 | AC31: 402890685 | AE31: 270104110 | AF31: 255641873
W32: 203824074 | X32: 15519538 | Y32: 239956835 | Z32: 1122101374 | AA32: 273951000 | AB32: 50373457 | AC32: 402890685 | AE32: 270104110 | AF32: 255641873
W33: 203824074 | X33: 15519538 | Y33: 239956835 | Z33: 1122101374 | AA33: 273951000 | AB33: 50373457 | AC33: 402890685 | AE33: 270104110 | AF33: 255641873
... W60: 203824074 | X60: 15519538 | Y60: 239956835 | Z60: 1092540000 | AA60: 272072769 | AB60: 50373457 | AC60: 402890685 | AE60: 270104110 | AF60: 255641873
W61: 203824074 | Y61: 239956835 | Z61: 1092540000 | AA61: 272072769 | AB61: 50373457 | AC61: 402890685 | AE61: 270104110 | AF61: 255641873
W62: 203824074 | Y62: 239956835 | Z62: 1092540000 | AA62: 272072769 | AB62: 50373457 | AC62: 402890685 | AE62: 270104110 | AF62: 255641873
W63: 203824074 | Y63: 239956835 | Z63: 1092540000 | AA63: 272072769 | AB63: 50373457 | AC63: 402890685 | AE63: 270104110 | AF63: 255641873
W64: 203824074 | Y64: 239956835 | Z64: 1092540000 | AA64: 272072769 | AB64: 50373457 | AC64: 402890685 | AE64: 270104110
W65: 203824074 | Y65: 239956835 | Z65: 1092540000 | AA65: 272072769 | AB65: 50373457 | AC65: 402890685 | AE65: 270104110
W66: 203824074 | Y66: 239956835 | Z66: 1092540000 | AA66: 272072769 | AB66: 50373457 | AC66: 402890685 | AE66: 270104110
W67: 281550694 | Y67: 239956835 | Z67: 1092540000 | AA67: 272072769 | AB67: 50373457 | AC67: 402890685 | AE67: 270104110
...

Sheet درآمد سپرده بانکی
A1: صندوق سرمایه‌گذاری امین انصار
A2: صورت وضعیت درآمدها
A3: برای ماه منتهی به 1405/07/30
A5: -4-2 | B5: درآمد حاصل از سرمایه­گذاری در سپرده بانکی و گواهی سپرده
D6: طی ماه | H6: از ابتدای سال مالی
A7: نام سپرده بانکی | D7: سود سپرده بانکی و گواهی سپرده | F7: درصد سود به میانگین سپرده | H7: سود سپرده بانکی و گواهی سپرده | J7: درصد سود به میانگین سپرده
A8: سپرده بانک اقتصاد نوین | D8: 21941 | H8: 4650261 | K8: 0
A9: سپرده بانک پارسیان | D9: 1228532 | H9: 11900495
A10: سپرده بانک پاسارگاد | D10: 199822 | E10: 0 | F10: 0 | G10: 0 | H10: 181472340303 | I10: 0 | J10: 0
A11: سپرده بانک تجارت | D11: 4060 | H11: 4060
A12: سپرده بانک خاورمیانه | D12: 1353291 | H12: 24128544
A13: سپرده بانک دی | D13: 56679135958 | E13: 0 | F13: 0 | G13: 0 | H13: 673953687487 | I13: 0 | J13: 0
A14: سپرده بانک رفاه | D14: 15046 | E14: 0 | F14: 0 | G14: 0 | H14: 42740072094 | I14: 0
A15: سپرده بانک سپه | D15: 464339 | E15: 0 | F15: 0 | G15: 0 | H15: 7317042 | I15: 0 | J15: 0
A16: سپرده بانک شهر | D16: 44327655324 | E16: 0 | F16: 0 | G16: 0 | H16: 260486478365 | I16: 0 | J16: 0
A17: سپرده بانک صادرات | D17: 66196950219 | E17: 0 | F17: 0 | G17: 0 | H17: 548583380486 | I17: 0 | J17: 0
A18: سپرده بانک گردشگری | D18: 191463297334 | E18: 0 | F18: 0 | G18: 0 | H18: 1696265105560 | I18: 0 | J18: 0
A19: سپرده بانک ملت | D19: 5313038 | E19: 0 | F19: 0 | G19: 0 | H19: 633811422236 | I19: 0 | J19: 0
A20: سپرده موسسه اعتباری ملل | D20: 69192520151 | E20: 0 | F20: 0 | G20: 0 | H20: 269107452355 | I20: 0 | J20: 0
A21: جمع | D21: 427868159055 | H21: 4306467939288

Sheet سایر درآمدها
A1: صندوق سرمایه‌گذاری امین انصار
A2: صورت وضعیت درآمدها
A3: برای ماه منتهی به 1405/07/30
A5: -5-2 | B5: سایر درآمدها
D6: طی ماه | F6: 1405/07/30
A7: سایر درآمدها | D7: مبلغ | F7: مبلغ
A8: سایر درآمدها | D8: 0 | F8: 57669524
A9: معین برای سایر درآمدهای تنزیل سود بانک | D9: 0 | F9: 851917441
A10: تعدیل کارمزد کارگزار | D10: 0 | F10: 750911939
A11: جمع | D11: 0 | F11: 1660498904

Sheet درآمد سود سهام
A1: صندوق سرمایه‌گذاری امین انصار
A2: صورت وضعیت درآمدها
A3: برای ماه منتهی به 1405/07/30
A5: درآمد سود سهام
A6: نام سهام | C6: اطلاعات مجمع | I6: طی ماه | O6: از ابتدای سال مالی
C7: تاریخ تشکیل مجمع | E7: تعداد سهام متعلقه در زمان مجمع | G7: سود متعلق به هر سهم | I7: جمع درآمد سود سهام | K7: هزینه تنزیل | M7: خالص درآمد سود سهام | O7: جمع درآمد سود سهام | Q7: هزینه تنزیل | S7: خالص درآمد سود سهام
A8: سرمایه‌گذاری‌صندوق‌بازنشستگی‌ | C8: 1405/04/30 | E8: 3200000 | G8: 1840 | I8: 0 | K8: 0 | M8: 0 | O8: 5888000000 | Q8: 0 | S8: 5888000000
A9: سرمایه‌گذاری‌غدیر(هلدینگ‌ | C9: 1404/12/10 | E9: 4400000 | G9: 1500 | I9: 0 | K9: 0 | M9: 0 | O9: 6600000000 | Q9: 0 | S9: 6600000000
A10: ملی‌ صنایع‌ مس‌ ایران‌ | C10: 1405/04/31 | E10: 38525000 | G10: 450 | I10: 0 | K10: 0 | M10: 0 | O10: 17336250000 | Q10: 0 | S10: 17336250000
A11: پتروشیمی‌شیراز | C11: 1405/03/27 | E11: 1000000 | G11: 6928 | I11: 0 | K11: 0 | M11: 0 | O11: 6928000000 | Q11: 0 | S11: 6928000000
A12: پالایش نفت اصفهان | C12: 1405/04/30 | E12: 5119599 | G12: 740 | I12: 0 | K12: 0 | M12: 0 | O12: 3788503260 | Q12: 0 | S12: 3788503260
A13: معدنی‌وصنعتی‌چادرملو | C13: 1405/02/31 | E13: 5417095 | G13: 200 | I13: 0 | K13: 0 | M13: 0 | O13: 1083419000 | Q13: 0 | S13: 1083419000
A14: فولاد خوزستان | C14: 1405/05/28 | E14: 20376796 | G14: 82 | I14: 0 | K14: 0 | M14: 0 | O14: 1670897272 | Q14: 0 | S14: 1670897272
A15: پتروشیمی شازند | C15: 1405/04/25 | E15: 3720858 | G15: 1100 | I15: 0 | K15: 0 | M15: 0 | O15: 4092943800 | Q15: 0 | S15: 4092943800
A16: بهنوش‌ ایران‌ | C16: 1405/05/31 | E16: 166631 | G16: 1650 | I16: 0 | K16: 0 | M16: 0 | O16: 274941150 | Q16: 0 | S16: 274941150
A17: بانک ملت | C17: 1405/04/31 | E17: 80055229 | G17: 46 | I17: 0 | K17: 0 | M17: 0 | O17: 3682540534 | Q17: 0 | S17: 3682540534
A18: بیمه البرز | C18: 1405/04/31 | E18: 73604381 | G18: 120 | I18: 0 | K18: 0 | M18: 0 | O18: 8832525720 | Q18: 0 | S18: 8832525720
A19: پالایش نفت بندرعباس | C19: 1405/05/18 | E19: 8000000 | G19: 1189 | I19: 0 | K19: 0 | M19: 0 | O19: 9512000000 | Q19: 178989247 | S19: 9333010753
... A34: گروه پتروشیمی تابان فردا | C34: 1405/06/31 | E34: 400000 | G34: 610 | I34: 0 | K34: 0 | M34: 0 | O34: 244000000 | Q34: 0 | S34: 244000000
A35: جمع | I35: 7119000000 | K35: 396011643 | M35: 6722988357 | O35: 198730426346 | Q35: 1894623075 | S35: 196835803271

Sheet سود اوراق بهادار
A1: صندوق سرمایه‌گذاری امین انصار
A2: صورت وضعیت درآمدها
A3: برای ماه منتهی به 1405/07/30
A5: سود اوراق بهادار با درآمد ثابت
A6: شرح | J6: طی ماه | P6: از ابتدای سال مالی
C7: تاریخ دریافت سود | E7: تاریخ سررسید | H7: نرخ سود علی الحساب | J7: درآمد سود | L7: هزینه تنزیل | N7: خالص درآمد | P7: درآمد سود | R7: هزینه تنزیل | T7: خالص درآمد
A8: شهرداری مشهد | E8: 1409/02/31 | H8: 23 | J8: 28680657540 | L8: 0 | N8: 28680657540 | P8: 34416789048 | R8: 0 | T8: 34416789048
A9: مرابحه داروسازی داناامین090520 | E9: 1409/05/20 | H9: 23 | J9: 155485904580 | L9: 0 | N9: 155485904580 | P9: 230758078192 | R9: 0 | T9: 230758078192
A10: مرابحه عام دولت298-ش.خ080414 | E10: 1408/04/14 | H10: 23 | J10: 72925997200 | L10: 0 | N10: 72925997200 | P10: 154363021200 | R10: 0 | T10: 154363021200
A11: صکوک مرابحه دارو904-3ماهه23% | E11: 1409/04/28 | H11: 23 | J11: 39375986360 | L11: 0 | N11: 39375986360 | P11: 121730238400 | R11: 0 | T11: 121730238400
A12: صکوک مرابحه دابور92-3ماهه23% | E12: 1409/02/09 | H12: 23 | J12: 27098941490 | L12: 0 | N12: 27098941490 | P12: 155088367328 | R12: 0 | T12: 155088367328
A13: صکوک مرابحه دارو901-بدون ضامن | E13: 1409/01/08 | H13: 23 | J13: 28063433155 | L13: 0 | N13: 28063433155 | P13: 188038540061 | R13: 0 | T13: 188038540061
A14: مرابحه عام دولت274-ش.خ071105 | E14: 1407/11/05 | H14: 23 | J14: 22401157245 | L14: 0 | N14: 22401157245 | P14: 68160698349 | R14: 0 | T14: 68160698349
A15: مرابحه عام دولت265-ش.خ070430 | E15: 1407/04/30 | H15: 23 | J15: 19859082006 | L15: 0 | N15: 19859082006 | P15: 327865545593 | R15: 0 | T15: 327865545593
A16: مرابحه عام دولت235-ش.خ060915 | E16: 1406/09/15 | H16: 23 | J16: 24579547787 | L16: 0 | N16: 24579547787 | P16: 252675479419 | R16: 0 | T16: 252675479419
A17: مرابحه عام دولت234-ش.خ070808 | E17: 1407/08/08 | H17: 23 | J17: 53083871931 | L17: 0 | N17: 53083871931 | P17: 570429913787 | R17: 0 | T17: 570429913787
A18: صکوک اجاره فارس806-بدون ضامن | E18: 1408/06/24 | H18: 23 | J18: 45380620248 | L18: 0 | N18: 45380620248 | P18: 450907547715 | R18: 0 | T18: 450907547715
A19: مرابحه عام دولت223-ش.خ070431 | E19: 1407/04/31 | H19: 23 | J19: 20331745817 | L19: 0 | N19: 20331745817 | P19: 208819160194 | R19: 0 | T19: 208819160194
... A33: صکوک اجاره خوارزم0411-6ماهه20% | E33: 1404/11/18 | H33: 20 | J33: 0 | L33: 0 | N33: 0 | P33: 2125334761 | R33: 0 | T33: 2125334761
A34: جمع | J34: 620969918856 | L34: 0 | N34: 620969918856 | P34: 4832447126287 | R34: 0 | T34: 4832447126287

Sheet سود سپرده بانکی
A1: صندوق سرمایه‌گذاری امین انصار
A2: صورت وضعیت درآمدها
A3: برای ماه منتهی به 1405/07/30
A5: سود سپرده بانکی
A6: شرح | C6: طی ماه | I6: از ابتدای سال مالی
C7: درآمد سود | E7: هزینه تنزیل | G7: خالص درآمد | I7: درآمد سود | K7: هزینه تنزیل | M7: خالص درآمد
A8: سپرده بانک پاسارگاد | C8: 199822 | D8: 0 | E8: 0 | F8: 0 | G8: 199822 | H8: 0 | I8: 181472340303 | J8: 0 | K8: 0 | L8: 0 | M8: 181472340303
A9: سپرده بانک دی | C9: 56679135958 | D9: 0 | E9: -7467361 | F9: 0 | G9: 56686603319 | H9: 0 | I9: 673953687487 | J9: 0 | K9: 452279260 | L9: 0 | M9: 673501408227
A10: سپرده بانک رفاه | C10: 15046 | D10: 0 | E10: 0 | F10: 0 | G10: 15046 | H10: 0 | I10: 42740072094 | J10: 0 | K10: 0 | L10: 0 | M10: 42740072094
A11: سپرده بانک شهر | C11: 44327655324 | D11: 0 | E11: -28654102 | F11: 0 | G11: 44356309426 | H11: 0 | I11: 260486478365 | J11: 0 | K11: 15548352 | L11: 0 | M11: 260470930013
A12: سپرده بانک صادرات | C12: 66196569878 | D12: 0 | E12: 0 | F12: 0 | G12: 66196569878 | H12: 0 | I12: 548580307395 | J12: 0 | K12: 0 | L12: 0 | M12: 548580307395
A13: سپرده بانک گردشگری | C13: 191463297334 | D13: 0 | E13: 602348438 | F13: 0 | G13: 190860948896 | H13: 0 | I13: 1696265105560 | J13: 0 | K13: 1556381656 | L13: 0 | M13: 1694708723904
A14: سپرده بانک ملت | C14: 5313038 | D14: 0 | E14: -14007234 | F14: 0 | G14: 19320272 | H14: 0 | I14: 633811422236 | J14: 0 | K14: 0 | L14: 0 | M14: 633811422236
A15: سپرده موسسه اعتباری ملل | C15: 69192520151 | D15: 0 | E15: -494206625 | F15: 0 | G15: 69686726776 | H15: 0 | I15: 269107452355 | J15: 0 | K15: 62203243 | L15: 0 | M15: 269045249112
A16: سپرده بانک اقتصادنوین | C16: 21941 | E16: 0 | G16: 21941 | I16: 4650261 | K16: 0 | M16: 4650261
A17: سپرده بانک سپه | C17: 464339 | D17: 0 | E17: 0 | F17: 0 | G17: 464339 | H17: 0 | I17: 7317042 | J17: 0 | K17: 0 | L17: 0 | M17: 7317042
A18: سپرده بانک پارسیان | C18: 1228532 | E18: 0 | G18: 1228532 | I18: 11900495 | K18: 0 | M18: 11900495
A19: سپرده بانک تجارت | C19: 4060 | E19: 0 | G19: 4060 | I19: 4060 | K19: 0 | M19: 4060
A20: سپرده بانک خاورمیانه | C20: 1353291 | E20: 0 | G20: 1353291 | I20: 24128544 | K20: 0 | M20: 24128544
A21: سپرده بانک صادرات | C21: 380341 | E21: 0 | G21: 380341 | I21: 3073091 | K21: 0 | M21: 3073091
A22: جمع | C22: 427868159055 | E22: 58013116 | G22: 427810145939 | I22: 4306467939288 | K22: 2086412511 | M22: 4304381526777

Sheet درآمد ناشی از فروش
A1: صندوق سرمایه‌گذاری امین انصار
A2: صورت وضعیت درآمدها
A3: برای ماه منتهی به 1405/07/30
A5: سود(زیان) حاصل از فروش اوراق بهادار
A6: شرح | C6: طی ماه | K6: از ابتدای سال مالی
C7: تعداد | E7: خالص بهای فروش | G7: ارزش دفتری | I7: سود و زیان ناشی از فروش | K7: تعداد | M7: خالص بهای فروش | O7: ارزش دفتری | Q7: سود و زیان ناشی از فروش
A8: ملی‌ صنایع‌ مس‌ ایران‌ | C8: 10090000 | E8: 304752713117 | G8: 309217715275 | I8: -4465002158 | K8: 10090000 | M8: 304752713117 | O8: 309217715275 | Q8: -4465002158
A9: پتروشیمی پردیس | C9: 3994160 | E9: 46641971905 | G9: 48516110065 | I9: -1874138160 | K9: 3994160 | M9: 46641971905 | O9: 48516110065 | Q9: -1874138160
A10: احیا استیل فولاد بافت | C10: 5330000 | E10: 25597787819 | G10: 26149791681 | I10: -552003862 | K10: 5330000 | M10: 25597787819 | O10: -9968359629 | Q10: 35566147448
A11: بانک‌ کارآفرین‌ | C11: 0 | E11: 0 | G11: 0 | I11: 0 | K11: 107173119 | M11: 315205604959 | O11: 303665522206 | Q11: 11540082753
A12: صندوق طلای عیار مفید | C12: 0 | E12: 0 | G12: 0 | I12: 0 | K12: 49750 | M12: 24540793774 | O12: 17872028690 | Q12: 6668765084
A13: صندوق امین آوید | C13: 0 | E13: 0 | G13: 0 | I13: 0 | K13: 17636000 | M13: 171033928000 | O13: 180369526319 | Q13: -9335598319
A14: بیمه البرز | C14: 0 | E14: 0 | G14: 0 | I14: 0 | K14: 73604381 | M14: 165100226013 | O14: 167708064386 | Q14: -2607838373
A15: گروه صنعتی درپاد تبریز | C15: 0 | E15: 0 | G15: 0 | I15: 0 | K15: 750000 | M15: 6109909582 | O15: 6330412759 | Q15: -220503177
A16: صنایع شیمیایی کیمیاگران امروز | C16: 0 | E16: 0 | G16: 0 | I16: 0 | K16: 22728 | M16: 125616384 | O16: 120344752 | Q16: 5271632
A17: ح . تامین سرمایه امین | C17: 0 | E17: 0 | G17: 0 | I17: 0 | K17: 23389916 | M17: 75970447168 | O17: 69858915136 | Q17: 6111532032
A18: صندوق س. كالاي پارسيان | C18: 0 | E18: 0 | G18: 0 | I18: 0 | K18: 19000 | M18: 24263920643 | O18: 25043292171 | Q18: -779371528
A19: ح . پاکسان‌ | C19: 0 | E19: 0 | G19: 0 | I19: 0 | K19: 510674 | M19: 731713059 | O19: 602237997 | Q19: 129475062
... A42: جمع | C42: 20224160 | E42: 1186992472841 | G42: 1112487223271 | I42: 74505249570 | K42: 300350142 | M42: 12494806709146 | O42: 11734562704147 | Q42: 760244004999

Sheet درآمد ناشی از تغییر قیمت اوراق
A1: صندوق سرمایه‌گذاری امین انصار
A2: صورت وضعیت درآمدها
A3: برای ماه منتهی به 1405/07/30
A5: درآمد ناشی از تغییر قیمت اوراق بهادار
A6: شرح | C6: طی ماه | K6: از ابتدای سال مالی
C7: تعداد | E7: خالص ارزش فروش | G7: ارزش دفتری | I7: سود و زیان ناشی از تغییر قیمت | K7: تعداد | M7: خالص ارزش فروش | O7: ارزش دفتری | Q7: سود و زیان ناشی از تغییر قیمت
A8: گسترش صنایع روی ایرانیان | C8: 3900000 | E8: 53442669930 | G8: 52973060273 | I8: 469609656 | K8: 3900000 | M8: 53442669930 | O8: 52824233490 | Q8: 618436439
A9: س.سهام عدالت استان مازندران | C9: 10000 | E9: 9625019 | G9: 9625019 | I9: 0 | K9: 10000 | M9: 9625019 | O9: 9625019 | Q9: 0
A10: پخش البرز | C10: 3109557 | E10: 42302480905 | G10: 42298894271 | I10: 3586634 | K10: 3109557 | M10: 42302480905 | O10: 43318559098 | Q10: -1016078192
A11: صندوق س صنایع آروین1-بخشی | C11: 17252334 | E11: 225640676459 | G11: 224001520579 | I11: 1639155880 | K11: 17252334 | M11: 225640676459 | O11: 222642065855 | Q11: 2998610604
A12: س.عدالت ا. کهگیلویه وبویراحمد | C12: 10000 | E12: 11212651 | G12: 11212651 | I12: 0 | K12: 10000 | M12: 11212651 | O12: 11212651 | Q12: 0
A13: صندوق سرمایه گذاری طلای نور امین | C13: 24633181 | E13: 380976777346 | G13: 337203594709 | I13: 43773182637 | K13: 24633181 | M13: 380976777346 | O13: 249999993002 | Q13: 130976784344
A14: شرکت س استان قم | C14: 10000 | E14: 13217036 | G14: 13217036 | I14: 0 | K14: 10000 | M14: 13217036 | O14: 13217036 | Q14: 0
A15: گروه مالی صبا تامین | C15: 54575949 | E15: 651473545278 | G15: 646220806873 | I15: 5252738405 | K15: 54575949 | M15: 651473545278 | O15: 666824138024 | Q15: -15350592745
A16: پتروشیمی اروند | C16: 980000 | E16: 63732708284 | G16: 63379768769 | I16: 352939514 | K16: 980000 | M16: 63732708284 | O16: 69546552454 | Q16: -5813844170
A17: پاکسان‌ | C17: 217416 | E17: 574287566 | G17: 572552897 | I17: 1734669 | K17: 217416 | M17: 574287566 | O17: 565403646 | Q17: 8883920
A18: سیمرغ | C18: 24336537 | E18: 131367380695 | G18: 131101744360 | I18: 265636335 | K18: 24336537 | M18: 131367380695 | O18: 131516358142 | Q18: -148977446
A19: صنعتی معدنی سیمان تجارت مهریز | C19: 477500 | E19: 12584365048 | G19: 12607038062 | I19: -22673014 | K19: 477500 | M19: 12584365048 | O19: 12611041302 | Q19: -26676254
... A94: جمع | C94: 663296703 | E94: 27592492889365 | G94: 27582258415849 | I94: 10234473512 | K94: 663296703 | M94: 27592492889365 | O94: 27433957432302 | Q94: 158535457081
